BEGIN:VCALENDAR
VERSION:2.0
PRODID:-//Duszpasterstwo Akademickie Św. Anny - ECPv6.15.18//NONSGML v1.0//EN
CALSCALE:GREGORIAN
METHOD:PUBLISH
X-ORIGINAL-URL:https://swanna.waw.pl
X-WR-CALDESC:Wydarzenia dla Duszpasterstwo Akademickie Św. Anny
REFRESH-INTERVAL;VALUE=DURATION:PT1H
X-Robots-Tag:noindex
X-PUBLISHED-TTL:PT1H
BEGIN:VTIMEZONE
TZID:UTC
BEGIN:STANDARD
TZOFFSETFROM:+0000
TZOFFSETTO:+0000
TZNAME:UTC
DTSTART:20260101T000000
END:STANDARD
END:VTIMEZONE
BEGIN:VEVENT
DTSTART;TZID=UTC:20270725T191500
DTEND;TZID=UTC:20270725T220000
DTSTAMP:20260420T010813
CREATED:20251101T083248Z
LAST-MODIFIED:20260419T215641Z
UID:10001246-1816542900-1816552800@swanna.waw.pl
SUMMARY:Próba muzyczna Brighter Day
DESCRIPTION:Nie wymagamy doświadczenia ani wykształcenia muzycznego\, wystarczy\, że lubisz muzykę! \nNasz zespół spotyka się na próbach o 19:15 w Dolnym Kościele. Później śpiewamy na Mszy Świętej o 21:00. \nSerdecznie zapraszamy! \n 
URL:https://swanna.waw.pl/event/proba-muzyczna-brighter-day/2027-07-25/
END:VEVENT
BEGIN:VEVENT
DTSTART;TZID=UTC:20270801T191500
DTEND;TZID=UTC:20270801T220000
DTSTAMP:20260420T010813
CREATED:20251101T083248Z
LAST-MODIFIED:20260419T215641Z
UID:10001247-1817147700-1817157600@swanna.waw.pl
SUMMARY:Próba muzyczna Brighter Day
DESCRIPTION:Nie wymagamy doświadczenia ani wykształcenia muzycznego\, wystarczy\, że lubisz muzykę! \nNasz zespół spotyka się na próbach o 19:15 w Dolnym Kościele. Później śpiewamy na Mszy Świętej o 21:00. \nSerdecznie zapraszamy! \n 
URL:https://swanna.waw.pl/event/proba-muzyczna-brighter-day/2027-08-01/
END:VEVENT
BEGIN:VEVENT
DTSTART;TZID=UTC:20270808T191500
DTEND;TZID=UTC:20270808T220000
DTSTAMP:20260420T010813
CREATED:20251101T083248Z
LAST-MODIFIED:20260419T215641Z
UID:10001248-1817752500-1817762400@swanna.waw.pl
SUMMARY:Próba muzyczna Brighter Day
DESCRIPTION:Nie wymagamy doświadczenia ani wykształcenia muzycznego\, wystarczy\, że lubisz muzykę! \nNasz zespół spotyka się na próbach o 19:15 w Dolnym Kościele. Później śpiewamy na Mszy Świętej o 21:00. \nSerdecznie zapraszamy! \n 
URL:https://swanna.waw.pl/event/proba-muzyczna-brighter-day/2027-08-08/
END:VEVENT
BEGIN:VEVENT
DTSTART;TZID=UTC:20270815T191500
DTEND;TZID=UTC:20270815T220000
DTSTAMP:20260420T010813
CREATED:20251101T083248Z
LAST-MODIFIED:20260419T215641Z
UID:10001249-1818357300-1818367200@swanna.waw.pl
SUMMARY:Próba muzyczna Brighter Day
DESCRIPTION:Nie wymagamy doświadczenia ani wykształcenia muzycznego\, wystarczy\, że lubisz muzykę! \nNasz zespół spotyka się na próbach o 19:15 w Dolnym Kościele. Później śpiewamy na Mszy Świętej o 21:00. \nSerdecznie zapraszamy! \n 
URL:https://swanna.waw.pl/event/proba-muzyczna-brighter-day/2027-08-15/
END:VEVENT
BEGIN:VEVENT
DTSTART;TZID=UTC:20270822T191500
DTEND;TZID=UTC:20270822T220000
DTSTAMP:20260420T010813
CREATED:20251101T083248Z
LAST-MODIFIED:20260419T215641Z
UID:10001250-1818962100-1818972000@swanna.waw.pl
SUMMARY:Próba muzyczna Brighter Day
DESCRIPTION:Nie wymagamy doświadczenia ani wykształcenia muzycznego\, wystarczy\, że lubisz muzykę! \nNasz zespół spotyka się na próbach o 19:15 w Dolnym Kościele. Później śpiewamy na Mszy Świętej o 21:00. \nSerdecznie zapraszamy! \n 
URL:https://swanna.waw.pl/event/proba-muzyczna-brighter-day/2027-08-22/
END:VEVENT
BEGIN:VEVENT
DTSTART;TZID=UTC:20270829T191500
DTEND;TZID=UTC:20270829T220000
DTSTAMP:20260420T010813
CREATED:20251101T083248Z
LAST-MODIFIED:20260419T215641Z
UID:10001251-1819566900-1819576800@swanna.waw.pl
SUMMARY:Próba muzyczna Brighter Day
DESCRIPTION:Nie wymagamy doświadczenia ani wykształcenia muzycznego\, wystarczy\, że lubisz muzykę! \nNasz zespół spotyka się na próbach o 19:15 w Dolnym Kościele. Później śpiewamy na Mszy Świętej o 21:00. \nSerdecznie zapraszamy! \n 
URL:https://swanna.waw.pl/event/proba-muzyczna-brighter-day/2027-08-29/
END:VEVENT
BEGIN:VEVENT
DTSTART;TZID=UTC:20270905T191500
DTEND;TZID=UTC:20270905T220000
DTSTAMP:20260420T010813
CREATED:20251101T083248Z
LAST-MODIFIED:20260419T215641Z
UID:10001252-1820171700-1820181600@swanna.waw.pl
SUMMARY:Próba muzyczna Brighter Day
DESCRIPTION:Nie wymagamy doświadczenia ani wykształcenia muzycznego\, wystarczy\, że lubisz muzykę! \nNasz zespół spotyka się na próbach o 19:15 w Dolnym Kościele. Później śpiewamy na Mszy Świętej o 21:00. \nSerdecznie zapraszamy! \n 
URL:https://swanna.waw.pl/event/proba-muzyczna-brighter-day/2027-09-05/
END:VEVENT
BEGIN:VEVENT
DTSTART;TZID=UTC:20270912T191500
DTEND;TZID=UTC:20270912T220000
DTSTAMP:20260420T010813
CREATED:20251101T083248Z
LAST-MODIFIED:20260419T215641Z
UID:10001253-1820776500-1820786400@swanna.waw.pl
SUMMARY:Próba muzyczna Brighter Day
DESCRIPTION:Nie wymagamy doświadczenia ani wykształcenia muzycznego\, wystarczy\, że lubisz muzykę! \nNasz zespół spotyka się na próbach o 19:15 w Dolnym Kościele. Później śpiewamy na Mszy Świętej o 21:00. \nSerdecznie zapraszamy! \n 
URL:https://swanna.waw.pl/event/proba-muzyczna-brighter-day/2027-09-12/
END:VEVENT
BEGIN:VEVENT
DTSTART;TZID=UTC:20270919T191500
DTEND;TZID=UTC:20270919T220000
DTSTAMP:20260420T010813
CREATED:20251101T083248Z
LAST-MODIFIED:20260419T215641Z
UID:10001254-1821381300-1821391200@swanna.waw.pl
SUMMARY:Próba muzyczna Brighter Day
DESCRIPTION:Nie wymagamy doświadczenia ani wykształcenia muzycznego\, wystarczy\, że lubisz muzykę! \nNasz zespół spotyka się na próbach o 19:15 w Dolnym Kościele. Później śpiewamy na Mszy Świętej o 21:00. \nSerdecznie zapraszamy! \n 
URL:https://swanna.waw.pl/event/proba-muzyczna-brighter-day/2027-09-19/
END:VEVENT
BEGIN:VEVENT
DTSTART;TZID=UTC:20270926T191500
DTEND;TZID=UTC:20270926T220000
DTSTAMP:20260420T010813
CREATED:20251101T083248Z
LAST-MODIFIED:20260419T215641Z
UID:10001255-1821986100-1821996000@swanna.waw.pl
SUMMARY:Próba muzyczna Brighter Day
DESCRIPTION:Nie wymagamy doświadczenia ani wykształcenia muzycznego\, wystarczy\, że lubisz muzykę! \nNasz zespół spotyka się na próbach o 19:15 w Dolnym Kościele. Później śpiewamy na Mszy Świętej o 21:00. \nSerdecznie zapraszamy! \n 
URL:https://swanna.waw.pl/event/proba-muzyczna-brighter-day/2027-09-26/
END:VEVENT
BEGIN:VEVENT
DTSTART;TZID=UTC:20271003T191500
DTEND;TZID=UTC:20271003T220000
DTSTAMP:20260420T010813
CREATED:20251101T083248Z
LAST-MODIFIED:20260419T215641Z
UID:10001256-1822590900-1822600800@swanna.waw.pl
SUMMARY:Próba muzyczna Brighter Day
DESCRIPTION:Nie wymagamy doświadczenia ani wykształcenia muzycznego\, wystarczy\, że lubisz muzykę! \nNasz zespół spotyka się na próbach o 19:15 w Dolnym Kościele. Później śpiewamy na Mszy Świętej o 21:00. \nSerdecznie zapraszamy! \n 
URL:https://swanna.waw.pl/event/proba-muzyczna-brighter-day/2027-10-03/
END:VEVENT
BEGIN:VEVENT
DTSTART;TZID=UTC:20271010T191500
DTEND;TZID=UTC:20271010T220000
DTSTAMP:20260420T010813
CREATED:20251101T083248Z
LAST-MODIFIED:20260419T215641Z
UID:10001257-1823195700-1823205600@swanna.waw.pl
SUMMARY:Próba muzyczna Brighter Day
DESCRIPTION:Nie wymagamy doświadczenia ani wykształcenia muzycznego\, wystarczy\, że lubisz muzykę! \nNasz zespół spotyka się na próbach o 19:15 w Dolnym Kościele. Później śpiewamy na Mszy Świętej o 21:00. \nSerdecznie zapraszamy! \n 
URL:https://swanna.waw.pl/event/proba-muzyczna-brighter-day/2027-10-10/
END:VEVENT
BEGIN:VEVENT
DTSTART;TZID=UTC:20271017T191500
DTEND;TZID=UTC:20271017T220000
DTSTAMP:20260420T010813
CREATED:20251101T083248Z
LAST-MODIFIED:20260419T215641Z
UID:10001258-1823800500-1823810400@swanna.waw.pl
SUMMARY:Próba muzyczna Brighter Day
DESCRIPTION:Nie wymagamy doświadczenia ani wykształcenia muzycznego\, wystarczy\, że lubisz muzykę! \nNasz zespół spotyka się na próbach o 19:15 w Dolnym Kościele. Później śpiewamy na Mszy Świętej o 21:00. \nSerdecznie zapraszamy! \n 
URL:https://swanna.waw.pl/event/proba-muzyczna-brighter-day/2027-10-17/
END:VEVENT
BEGIN:VEVENT
DTSTART;TZID=UTC:20271024T191500
DTEND;TZID=UTC:20271024T220000
DTSTAMP:20260420T010813
CREATED:20251101T083248Z
LAST-MODIFIED:20260419T215641Z
UID:10001259-1824405300-1824415200@swanna.waw.pl
SUMMARY:Próba muzyczna Brighter Day
DESCRIPTION:Nie wymagamy doświadczenia ani wykształcenia muzycznego\, wystarczy\, że lubisz muzykę! \nNasz zespół spotyka się na próbach o 19:15 w Dolnym Kościele. Później śpiewamy na Mszy Świętej o 21:00. \nSerdecznie zapraszamy! \n 
URL:https://swanna.waw.pl/event/proba-muzyczna-brighter-day/2027-10-24/
END:VEVENT
BEGIN:VEVENT
DTSTART;TZID=UTC:20271031T191500
DTEND;TZID=UTC:20271031T220000
DTSTAMP:20260420T010813
CREATED:20251101T083248Z
LAST-MODIFIED:20260419T215641Z
UID:10001260-1825010100-1825020000@swanna.waw.pl
SUMMARY:Próba muzyczna Brighter Day
DESCRIPTION:Nie wymagamy doświadczenia ani wykształcenia muzycznego\, wystarczy\, że lubisz muzykę! \nNasz zespół spotyka się na próbach o 19:15 w Dolnym Kościele. Później śpiewamy na Mszy Świętej o 21:00. \nSerdecznie zapraszamy! \n 
URL:https://swanna.waw.pl/event/proba-muzyczna-brighter-day/2027-10-31/
END:VEVENT
BEGIN:VEVENT
DTSTART;TZID=UTC:20271107T191500
DTEND;TZID=UTC:20271107T220000
DTSTAMP:20260420T010813
CREATED:20251101T083248Z
LAST-MODIFIED:20260419T215641Z
UID:10001261-1825614900-1825624800@swanna.waw.pl
SUMMARY:Próba muzyczna Brighter Day
DESCRIPTION:Nie wymagamy doświadczenia ani wykształcenia muzycznego\, wystarczy\, że lubisz muzykę! \nNasz zespół spotyka się na próbach o 19:15 w Dolnym Kościele. Później śpiewamy na Mszy Świętej o 21:00. \nSerdecznie zapraszamy! \n 
URL:https://swanna.waw.pl/event/proba-muzyczna-brighter-day/2027-11-07/
END:VEVENT
BEGIN:VEVENT
DTSTART;TZID=UTC:20271114T191500
DTEND;TZID=UTC:20271114T220000
DTSTAMP:20260420T010813
CREATED:20251101T083248Z
LAST-MODIFIED:20260419T215641Z
UID:10001262-1826219700-1826229600@swanna.waw.pl
SUMMARY:Próba muzyczna Brighter Day
DESCRIPTION:Nie wymagamy doświadczenia ani wykształcenia muzycznego\, wystarczy\, że lubisz muzykę! \nNasz zespół spotyka się na próbach o 19:15 w Dolnym Kościele. Później śpiewamy na Mszy Świętej o 21:00. \nSerdecznie zapraszamy! \n 
URL:https://swanna.waw.pl/event/proba-muzyczna-brighter-day/2027-11-14/
END:VEVENT
BEGIN:VEVENT
DTSTART;TZID=UTC:20271121T191500
DTEND;TZID=UTC:20271121T220000
DTSTAMP:20260420T010813
CREATED:20251101T083248Z
LAST-MODIFIED:20260419T215641Z
UID:10001263-1826824500-1826834400@swanna.waw.pl
SUMMARY:Próba muzyczna Brighter Day
DESCRIPTION:Nie wymagamy doświadczenia ani wykształcenia muzycznego\, wystarczy\, że lubisz muzykę! \nNasz zespół spotyka się na próbach o 19:15 w Dolnym Kościele. Później śpiewamy na Mszy Świętej o 21:00. \nSerdecznie zapraszamy! \n 
URL:https://swanna.waw.pl/event/proba-muzyczna-brighter-day/2027-11-21/
END:VEVENT
BEGIN:VEVENT
DTSTART;TZID=UTC:20271128T191500
DTEND;TZID=UTC:20271128T220000
DTSTAMP:20260420T010813
CREATED:20251101T083248Z
LAST-MODIFIED:20260419T215641Z
UID:10001264-1827429300-1827439200@swanna.waw.pl
SUMMARY:Próba muzyczna Brighter Day
DESCRIPTION:Nie wymagamy doświadczenia ani wykształcenia muzycznego\, wystarczy\, że lubisz muzykę! \nNasz zespół spotyka się na próbach o 19:15 w Dolnym Kościele. Później śpiewamy na Mszy Świętej o 21:00. \nSerdecznie zapraszamy! \n 
URL:https://swanna.waw.pl/event/proba-muzyczna-brighter-day/2027-11-28/
END:VEVENT
BEGIN:VEVENT
DTSTART;TZID=UTC:20271205T191500
DTEND;TZID=UTC:20271205T220000
DTSTAMP:20260420T010813
CREATED:20251101T083248Z
LAST-MODIFIED:20260419T215641Z
UID:10001265-1828034100-1828044000@swanna.waw.pl
SUMMARY:Próba muzyczna Brighter Day
DESCRIPTION:Nie wymagamy doświadczenia ani wykształcenia muzycznego\, wystarczy\, że lubisz muzykę! \nNasz zespół spotyka się na próbach o 19:15 w Dolnym Kościele. Później śpiewamy na Mszy Świętej o 21:00. \nSerdecznie zapraszamy! \n 
URL:https://swanna.waw.pl/event/proba-muzyczna-brighter-day/2027-12-05/
END:VEVENT
BEGIN:VEVENT
DTSTART;TZID=UTC:20271212T191500
DTEND;TZID=UTC:20271212T220000
DTSTAMP:20260420T010813
CREATED:20251101T083248Z
LAST-MODIFIED:20260419T215641Z
UID:10001266-1828638900-1828648800@swanna.waw.pl
SUMMARY:Próba muzyczna Brighter Day
DESCRIPTION:Nie wymagamy doświadczenia ani wykształcenia muzycznego\, wystarczy\, że lubisz muzykę! \nNasz zespół spotyka się na próbach o 19:15 w Dolnym Kościele. Później śpiewamy na Mszy Świętej o 21:00. \nSerdecznie zapraszamy! \n 
URL:https://swanna.waw.pl/event/proba-muzyczna-brighter-day/2027-12-12/
END:VEVENT
BEGIN:VEVENT
DTSTART;TZID=UTC:20271219T191500
DTEND;TZID=UTC:20271219T220000
DTSTAMP:20260420T010813
CREATED:20251101T083248Z
LAST-MODIFIED:20260419T215641Z
UID:10001267-1829243700-1829253600@swanna.waw.pl
SUMMARY:Próba muzyczna Brighter Day
DESCRIPTION:Nie wymagamy doświadczenia ani wykształcenia muzycznego\, wystarczy\, że lubisz muzykę! \nNasz zespół spotyka się na próbach o 19:15 w Dolnym Kościele. Później śpiewamy na Mszy Świętej o 21:00. \nSerdecznie zapraszamy! \n 
URL:https://swanna.waw.pl/event/proba-muzyczna-brighter-day/2027-12-19/
END:VEVENT
BEGIN:VEVENT
DTSTART;TZID=UTC:20271226T191500
DTEND;TZID=UTC:20271226T220000
DTSTAMP:20260420T010813
CREATED:20251101T083248Z
LAST-MODIFIED:20260419T215641Z
UID:10001268-1829848500-1829858400@swanna.waw.pl
SUMMARY:Próba muzyczna Brighter Day
DESCRIPTION:Nie wymagamy doświadczenia ani wykształcenia muzycznego\, wystarczy\, że lubisz muzykę! \nNasz zespół spotyka się na próbach o 19:15 w Dolnym Kościele. Później śpiewamy na Mszy Świętej o 21:00. \nSerdecznie zapraszamy! \n 
URL:https://swanna.waw.pl/event/proba-muzyczna-brighter-day/2027-12-26/
END:VEVENT
BEGIN:VEVENT
DTSTART;TZID=UTC:20280102T191500
DTEND;TZID=UTC:20280102T220000
DTSTAMP:20260420T010813
CREATED:20251101T083248Z
LAST-MODIFIED:20260419T215641Z
UID:10001269-1830453300-1830463200@swanna.waw.pl
SUMMARY:Próba muzyczna Brighter Day
DESCRIPTION:Nie wymagamy doświadczenia ani wykształcenia muzycznego\, wystarczy\, że lubisz muzykę! \nNasz zespół spotyka się na próbach o 19:15 w Dolnym Kościele. Później śpiewamy na Mszy Świętej o 21:00. \nSerdecznie zapraszamy! \n 
URL:https://swanna.waw.pl/event/proba-muzyczna-brighter-day/2028-01-02/
END:VEVENT
BEGIN:VEVENT
DTSTART;TZID=UTC:20280109T191500
DTEND;TZID=UTC:20280109T220000
DTSTAMP:20260420T010813
CREATED:20251101T083248Z
LAST-MODIFIED:20260419T215641Z
UID:10001270-1831058100-1831068000@swanna.waw.pl
SUMMARY:Próba muzyczna Brighter Day
DESCRIPTION:Nie wymagamy doświadczenia ani wykształcenia muzycznego\, wystarczy\, że lubisz muzykę! \nNasz zespół spotyka się na próbach o 19:15 w Dolnym Kościele. Później śpiewamy na Mszy Świętej o 21:00. \nSerdecznie zapraszamy! \n 
URL:https://swanna.waw.pl/event/proba-muzyczna-brighter-day/2028-01-09/
END:VEVENT
BEGIN:VEVENT
DTSTART;TZID=UTC:20280116T191500
DTEND;TZID=UTC:20280116T220000
DTSTAMP:20260420T010813
CREATED:20251101T083248Z
LAST-MODIFIED:20260419T215641Z
UID:10001271-1831662900-1831672800@swanna.waw.pl
SUMMARY:Próba muzyczna Brighter Day
DESCRIPTION:Nie wymagamy doświadczenia ani wykształcenia muzycznego\, wystarczy\, że lubisz muzykę! \nNasz zespół spotyka się na próbach o 19:15 w Dolnym Kościele. Później śpiewamy na Mszy Świętej o 21:00. \nSerdecznie zapraszamy! \n 
URL:https://swanna.waw.pl/event/proba-muzyczna-brighter-day/2028-01-16/
END:VEVENT
BEGIN:VEVENT
DTSTART;TZID=UTC:20280123T191500
DTEND;TZID=UTC:20280123T220000
DTSTAMP:20260420T010813
CREATED:20251101T083248Z
LAST-MODIFIED:20260419T215641Z
UID:10001272-1832267700-1832277600@swanna.waw.pl
SUMMARY:Próba muzyczna Brighter Day
DESCRIPTION:Nie wymagamy doświadczenia ani wykształcenia muzycznego\, wystarczy\, że lubisz muzykę! \nNasz zespół spotyka się na próbach o 19:15 w Dolnym Kościele. Później śpiewamy na Mszy Świętej o 21:00. \nSerdecznie zapraszamy! \n 
URL:https://swanna.waw.pl/event/proba-muzyczna-brighter-day/2028-01-23/
END:VEVENT
BEGIN:VEVENT
DTSTART;TZID=UTC:20280130T191500
DTEND;TZID=UTC:20280130T220000
DTSTAMP:20260420T010813
CREATED:20251101T083248Z
LAST-MODIFIED:20260419T215641Z
UID:10001273-1832872500-1832882400@swanna.waw.pl
SUMMARY:Próba muzyczna Brighter Day
DESCRIPTION:Nie wymagamy doświadczenia ani wykształcenia muzycznego\, wystarczy\, że lubisz muzykę! \nNasz zespół spotyka się na próbach o 19:15 w Dolnym Kościele. Później śpiewamy na Mszy Świętej o 21:00. \nSerdecznie zapraszamy! \n 
URL:https://swanna.waw.pl/event/proba-muzyczna-brighter-day/2028-01-30/
END:VEVENT
BEGIN:VEVENT
DTSTART;TZID=UTC:20280206T191500
DTEND;TZID=UTC:20280206T220000
DTSTAMP:20260420T010813
CREATED:20251101T083248Z
LAST-MODIFIED:20260419T215641Z
UID:10001274-1833477300-1833487200@swanna.waw.pl
SUMMARY:Próba muzyczna Brighter Day
DESCRIPTION:Nie wymagamy doświadczenia ani wykształcenia muzycznego\, wystarczy\, że lubisz muzykę! \nNasz zespół spotyka się na próbach o 19:15 w Dolnym Kościele. Później śpiewamy na Mszy Świętej o 21:00. \nSerdecznie zapraszamy! \n 
URL:https://swanna.waw.pl/event/proba-muzyczna-brighter-day/2028-02-06/
END:VEVENT
BEGIN:VEVENT
DTSTART;TZID=UTC:20280213T191500
DTEND;TZID=UTC:20280213T220000
DTSTAMP:20260420T010813
CREATED:20251101T083248Z
LAST-MODIFIED:20260419T215641Z
UID:10001275-1834082100-1834092000@swanna.waw.pl
SUMMARY:Próba muzyczna Brighter Day
DESCRIPTION:Nie wymagamy doświadczenia ani wykształcenia muzycznego\, wystarczy\, że lubisz muzykę! \nNasz zespół spotyka się na próbach o 19:15 w Dolnym Kościele. Później śpiewamy na Mszy Świętej o 21:00. \nSerdecznie zapraszamy! \n 
URL:https://swanna.waw.pl/event/proba-muzyczna-brighter-day/2028-02-13/
END:VEVENT
END:VCALENDAR