BEGIN:VCALENDAR
VERSION:2.0
PRODID:-//Duszpasterstwo Akademickie Św. Anny - ECPv6.15.18//NONSGML v1.0//EN
CALSCALE:GREGORIAN
METHOD:PUBLISH
X-ORIGINAL-URL:https://swanna.waw.pl
X-WR-CALDESC:Wydarzenia dla Duszpasterstwo Akademickie Św. Anny
REFRESH-INTERVAL;VALUE=DURATION:PT1H
X-Robots-Tag:noindex
X-PUBLISHED-TTL:PT1H
BEGIN:VTIMEZONE
TZID:UTC
BEGIN:STANDARD
TZOFFSETFROM:+0000
TZOFFSETTO:+0000
TZNAME:UTC
DTSTART:20250101T000000
END:STANDARD
END:VTIMEZONE
BEGIN:VEVENT
DTSTART;TZID=UTC:20261108T191500
DTEND;TZID=UTC:20261108T220000
DTSTAMP:20260419T193516
CREATED:20251101T083248Z
LAST-MODIFIED:20260412T122941Z
UID:10001209-1794165300-1794175200@swanna.waw.pl
SUMMARY:Próba muzyczna Brighter Day
DESCRIPTION:Nie wymagamy doświadczenia ani wykształcenia muzycznego\, wystarczy\, że lubisz muzykę! \nNasz zespół spotyka się na próbach o 19:15 w Dolnym Kościele. Później śpiewamy na Mszy Świętej o 21:00. \nSerdecznie zapraszamy! \n 
URL:https://swanna.waw.pl/event/proba-muzyczna-brighter-day/2026-11-08/
END:VEVENT
BEGIN:VEVENT
DTSTART;TZID=UTC:20261115T191500
DTEND;TZID=UTC:20261115T220000
DTSTAMP:20260419T193516
CREATED:20251101T083248Z
LAST-MODIFIED:20260412T122941Z
UID:10001210-1794770100-1794780000@swanna.waw.pl
SUMMARY:Próba muzyczna Brighter Day
DESCRIPTION:Nie wymagamy doświadczenia ani wykształcenia muzycznego\, wystarczy\, że lubisz muzykę! \nNasz zespół spotyka się na próbach o 19:15 w Dolnym Kościele. Później śpiewamy na Mszy Świętej o 21:00. \nSerdecznie zapraszamy! \n 
URL:https://swanna.waw.pl/event/proba-muzyczna-brighter-day/2026-11-15/
END:VEVENT
BEGIN:VEVENT
DTSTART;TZID=UTC:20261122T191500
DTEND;TZID=UTC:20261122T220000
DTSTAMP:20260419T193516
CREATED:20251101T083248Z
LAST-MODIFIED:20260412T122941Z
UID:10001211-1795374900-1795384800@swanna.waw.pl
SUMMARY:Próba muzyczna Brighter Day
DESCRIPTION:Nie wymagamy doświadczenia ani wykształcenia muzycznego\, wystarczy\, że lubisz muzykę! \nNasz zespół spotyka się na próbach o 19:15 w Dolnym Kościele. Później śpiewamy na Mszy Świętej o 21:00. \nSerdecznie zapraszamy! \n 
URL:https://swanna.waw.pl/event/proba-muzyczna-brighter-day/2026-11-22/
END:VEVENT
BEGIN:VEVENT
DTSTART;TZID=UTC:20261129T191500
DTEND;TZID=UTC:20261129T220000
DTSTAMP:20260419T193516
CREATED:20251101T083248Z
LAST-MODIFIED:20260412T122941Z
UID:10001212-1795979700-1795989600@swanna.waw.pl
SUMMARY:Próba muzyczna Brighter Day
DESCRIPTION:Nie wymagamy doświadczenia ani wykształcenia muzycznego\, wystarczy\, że lubisz muzykę! \nNasz zespół spotyka się na próbach o 19:15 w Dolnym Kościele. Później śpiewamy na Mszy Świętej o 21:00. \nSerdecznie zapraszamy! \n 
URL:https://swanna.waw.pl/event/proba-muzyczna-brighter-day/2026-11-29/
END:VEVENT
BEGIN:VEVENT
DTSTART;TZID=UTC:20261206T191500
DTEND;TZID=UTC:20261206T220000
DTSTAMP:20260419T193516
CREATED:20251101T083248Z
LAST-MODIFIED:20260412T122941Z
UID:10001213-1796584500-1796594400@swanna.waw.pl
SUMMARY:Próba muzyczna Brighter Day
DESCRIPTION:Nie wymagamy doświadczenia ani wykształcenia muzycznego\, wystarczy\, że lubisz muzykę! \nNasz zespół spotyka się na próbach o 19:15 w Dolnym Kościele. Później śpiewamy na Mszy Świętej o 21:00. \nSerdecznie zapraszamy! \n 
URL:https://swanna.waw.pl/event/proba-muzyczna-brighter-day/2026-12-06/
END:VEVENT
BEGIN:VEVENT
DTSTART;TZID=UTC:20261213T191500
DTEND;TZID=UTC:20261213T220000
DTSTAMP:20260419T193516
CREATED:20251101T083248Z
LAST-MODIFIED:20260412T122941Z
UID:10001214-1797189300-1797199200@swanna.waw.pl
SUMMARY:Próba muzyczna Brighter Day
DESCRIPTION:Nie wymagamy doświadczenia ani wykształcenia muzycznego\, wystarczy\, że lubisz muzykę! \nNasz zespół spotyka się na próbach o 19:15 w Dolnym Kościele. Później śpiewamy na Mszy Świętej o 21:00. \nSerdecznie zapraszamy! \n 
URL:https://swanna.waw.pl/event/proba-muzyczna-brighter-day/2026-12-13/
END:VEVENT
BEGIN:VEVENT
DTSTART;TZID=UTC:20261220T191500
DTEND;TZID=UTC:20261220T220000
DTSTAMP:20260419T193516
CREATED:20251101T083248Z
LAST-MODIFIED:20260412T122941Z
UID:10001215-1797794100-1797804000@swanna.waw.pl
SUMMARY:Próba muzyczna Brighter Day
DESCRIPTION:Nie wymagamy doświadczenia ani wykształcenia muzycznego\, wystarczy\, że lubisz muzykę! \nNasz zespół spotyka się na próbach o 19:15 w Dolnym Kościele. Później śpiewamy na Mszy Świętej o 21:00. \nSerdecznie zapraszamy! \n 
URL:https://swanna.waw.pl/event/proba-muzyczna-brighter-day/2026-12-20/
END:VEVENT
BEGIN:VEVENT
DTSTART;TZID=UTC:20261227T191500
DTEND;TZID=UTC:20261227T220000
DTSTAMP:20260419T193516
CREATED:20251101T083248Z
LAST-MODIFIED:20260412T122941Z
UID:10001216-1798398900-1798408800@swanna.waw.pl
SUMMARY:Próba muzyczna Brighter Day
DESCRIPTION:Nie wymagamy doświadczenia ani wykształcenia muzycznego\, wystarczy\, że lubisz muzykę! \nNasz zespół spotyka się na próbach o 19:15 w Dolnym Kościele. Później śpiewamy na Mszy Świętej o 21:00. \nSerdecznie zapraszamy! \n 
URL:https://swanna.waw.pl/event/proba-muzyczna-brighter-day/2026-12-27/
END:VEVENT
BEGIN:VEVENT
DTSTART;TZID=UTC:20270103T191500
DTEND;TZID=UTC:20270103T220000
DTSTAMP:20260419T193516
CREATED:20251101T083248Z
LAST-MODIFIED:20260412T122941Z
UID:10001217-1799003700-1799013600@swanna.waw.pl
SUMMARY:Próba muzyczna Brighter Day
DESCRIPTION:Nie wymagamy doświadczenia ani wykształcenia muzycznego\, wystarczy\, że lubisz muzykę! \nNasz zespół spotyka się na próbach o 19:15 w Dolnym Kościele. Później śpiewamy na Mszy Świętej o 21:00. \nSerdecznie zapraszamy! \n 
URL:https://swanna.waw.pl/event/proba-muzyczna-brighter-day/2027-01-03/
END:VEVENT
BEGIN:VEVENT
DTSTART;TZID=UTC:20270110T191500
DTEND;TZID=UTC:20270110T220000
DTSTAMP:20260419T193516
CREATED:20251101T083248Z
LAST-MODIFIED:20260412T122941Z
UID:10001218-1799608500-1799618400@swanna.waw.pl
SUMMARY:Próba muzyczna Brighter Day
DESCRIPTION:Nie wymagamy doświadczenia ani wykształcenia muzycznego\, wystarczy\, że lubisz muzykę! \nNasz zespół spotyka się na próbach o 19:15 w Dolnym Kościele. Później śpiewamy na Mszy Świętej o 21:00. \nSerdecznie zapraszamy! \n 
URL:https://swanna.waw.pl/event/proba-muzyczna-brighter-day/2027-01-10/
END:VEVENT
BEGIN:VEVENT
DTSTART;TZID=UTC:20270117T191500
DTEND;TZID=UTC:20270117T220000
DTSTAMP:20260419T193516
CREATED:20251101T083248Z
LAST-MODIFIED:20260412T122941Z
UID:10001219-1800213300-1800223200@swanna.waw.pl
SUMMARY:Próba muzyczna Brighter Day
DESCRIPTION:Nie wymagamy doświadczenia ani wykształcenia muzycznego\, wystarczy\, że lubisz muzykę! \nNasz zespół spotyka się na próbach o 19:15 w Dolnym Kościele. Później śpiewamy na Mszy Świętej o 21:00. \nSerdecznie zapraszamy! \n 
URL:https://swanna.waw.pl/event/proba-muzyczna-brighter-day/2027-01-17/
END:VEVENT
BEGIN:VEVENT
DTSTART;TZID=UTC:20270124T191500
DTEND;TZID=UTC:20270124T220000
DTSTAMP:20260419T193516
CREATED:20251101T083248Z
LAST-MODIFIED:20260412T122941Z
UID:10001220-1800818100-1800828000@swanna.waw.pl
SUMMARY:Próba muzyczna Brighter Day
DESCRIPTION:Nie wymagamy doświadczenia ani wykształcenia muzycznego\, wystarczy\, że lubisz muzykę! \nNasz zespół spotyka się na próbach o 19:15 w Dolnym Kościele. Później śpiewamy na Mszy Świętej o 21:00. \nSerdecznie zapraszamy! \n 
URL:https://swanna.waw.pl/event/proba-muzyczna-brighter-day/2027-01-24/
END:VEVENT
BEGIN:VEVENT
DTSTART;TZID=UTC:20270131T191500
DTEND;TZID=UTC:20270131T220000
DTSTAMP:20260419T193516
CREATED:20251101T083248Z
LAST-MODIFIED:20260412T122941Z
UID:10001221-1801422900-1801432800@swanna.waw.pl
SUMMARY:Próba muzyczna Brighter Day
DESCRIPTION:Nie wymagamy doświadczenia ani wykształcenia muzycznego\, wystarczy\, że lubisz muzykę! \nNasz zespół spotyka się na próbach o 19:15 w Dolnym Kościele. Później śpiewamy na Mszy Świętej o 21:00. \nSerdecznie zapraszamy! \n 
URL:https://swanna.waw.pl/event/proba-muzyczna-brighter-day/2027-01-31/
END:VEVENT
BEGIN:VEVENT
DTSTART;TZID=UTC:20270207T191500
DTEND;TZID=UTC:20270207T220000
DTSTAMP:20260419T193516
CREATED:20251101T083248Z
LAST-MODIFIED:20260412T122941Z
UID:10001222-1802027700-1802037600@swanna.waw.pl
SUMMARY:Próba muzyczna Brighter Day
DESCRIPTION:Nie wymagamy doświadczenia ani wykształcenia muzycznego\, wystarczy\, że lubisz muzykę! \nNasz zespół spotyka się na próbach o 19:15 w Dolnym Kościele. Później śpiewamy na Mszy Świętej o 21:00. \nSerdecznie zapraszamy! \n 
URL:https://swanna.waw.pl/event/proba-muzyczna-brighter-day/2027-02-07/
END:VEVENT
BEGIN:VEVENT
DTSTART;TZID=UTC:20270214T191500
DTEND;TZID=UTC:20270214T220000
DTSTAMP:20260419T193516
CREATED:20251101T083248Z
LAST-MODIFIED:20260412T122941Z
UID:10001223-1802632500-1802642400@swanna.waw.pl
SUMMARY:Próba muzyczna Brighter Day
DESCRIPTION:Nie wymagamy doświadczenia ani wykształcenia muzycznego\, wystarczy\, że lubisz muzykę! \nNasz zespół spotyka się na próbach o 19:15 w Dolnym Kościele. Później śpiewamy na Mszy Świętej o 21:00. \nSerdecznie zapraszamy! \n 
URL:https://swanna.waw.pl/event/proba-muzyczna-brighter-day/2027-02-14/
END:VEVENT
BEGIN:VEVENT
DTSTART;TZID=UTC:20270221T191500
DTEND;TZID=UTC:20270221T220000
DTSTAMP:20260419T193516
CREATED:20251101T083248Z
LAST-MODIFIED:20260412T122941Z
UID:10001224-1803237300-1803247200@swanna.waw.pl
SUMMARY:Próba muzyczna Brighter Day
DESCRIPTION:Nie wymagamy doświadczenia ani wykształcenia muzycznego\, wystarczy\, że lubisz muzykę! \nNasz zespół spotyka się na próbach o 19:15 w Dolnym Kościele. Później śpiewamy na Mszy Świętej o 21:00. \nSerdecznie zapraszamy! \n 
URL:https://swanna.waw.pl/event/proba-muzyczna-brighter-day/2027-02-21/
END:VEVENT
BEGIN:VEVENT
DTSTART;TZID=UTC:20270228T191500
DTEND;TZID=UTC:20270228T220000
DTSTAMP:20260419T193516
CREATED:20251101T083248Z
LAST-MODIFIED:20260412T122941Z
UID:10001225-1803842100-1803852000@swanna.waw.pl
SUMMARY:Próba muzyczna Brighter Day
DESCRIPTION:Nie wymagamy doświadczenia ani wykształcenia muzycznego\, wystarczy\, że lubisz muzykę! \nNasz zespół spotyka się na próbach o 19:15 w Dolnym Kościele. Później śpiewamy na Mszy Świętej o 21:00. \nSerdecznie zapraszamy! \n 
URL:https://swanna.waw.pl/event/proba-muzyczna-brighter-day/2027-02-28/
END:VEVENT
BEGIN:VEVENT
DTSTART;TZID=UTC:20270307T191500
DTEND;TZID=UTC:20270307T220000
DTSTAMP:20260419T193516
CREATED:20251101T083248Z
LAST-MODIFIED:20260412T122941Z
UID:10001226-1804446900-1804456800@swanna.waw.pl
SUMMARY:Próba muzyczna Brighter Day
DESCRIPTION:Nie wymagamy doświadczenia ani wykształcenia muzycznego\, wystarczy\, że lubisz muzykę! \nNasz zespół spotyka się na próbach o 19:15 w Dolnym Kościele. Później śpiewamy na Mszy Świętej o 21:00. \nSerdecznie zapraszamy! \n 
URL:https://swanna.waw.pl/event/proba-muzyczna-brighter-day/2027-03-07/
END:VEVENT
BEGIN:VEVENT
DTSTART;TZID=UTC:20270314T191500
DTEND;TZID=UTC:20270314T220000
DTSTAMP:20260419T193516
CREATED:20251101T083248Z
LAST-MODIFIED:20260412T122941Z
UID:10001227-1805051700-1805061600@swanna.waw.pl
SUMMARY:Próba muzyczna Brighter Day
DESCRIPTION:Nie wymagamy doświadczenia ani wykształcenia muzycznego\, wystarczy\, że lubisz muzykę! \nNasz zespół spotyka się na próbach o 19:15 w Dolnym Kościele. Później śpiewamy na Mszy Świętej o 21:00. \nSerdecznie zapraszamy! \n 
URL:https://swanna.waw.pl/event/proba-muzyczna-brighter-day/2027-03-14/
END:VEVENT
BEGIN:VEVENT
DTSTART;TZID=UTC:20270321T191500
DTEND;TZID=UTC:20270321T220000
DTSTAMP:20260419T193516
CREATED:20251101T083248Z
LAST-MODIFIED:20260412T122941Z
UID:10001228-1805656500-1805666400@swanna.waw.pl
SUMMARY:Próba muzyczna Brighter Day
DESCRIPTION:Nie wymagamy doświadczenia ani wykształcenia muzycznego\, wystarczy\, że lubisz muzykę! \nNasz zespół spotyka się na próbach o 19:15 w Dolnym Kościele. Później śpiewamy na Mszy Świętej o 21:00. \nSerdecznie zapraszamy! \n 
URL:https://swanna.waw.pl/event/proba-muzyczna-brighter-day/2027-03-21/
END:VEVENT
BEGIN:VEVENT
DTSTART;TZID=UTC:20270328T191500
DTEND;TZID=UTC:20270328T220000
DTSTAMP:20260419T193516
CREATED:20251101T083248Z
LAST-MODIFIED:20260412T122941Z
UID:10001229-1806261300-1806271200@swanna.waw.pl
SUMMARY:Próba muzyczna Brighter Day
DESCRIPTION:Nie wymagamy doświadczenia ani wykształcenia muzycznego\, wystarczy\, że lubisz muzykę! \nNasz zespół spotyka się na próbach o 19:15 w Dolnym Kościele. Później śpiewamy na Mszy Świętej o 21:00. \nSerdecznie zapraszamy! \n 
URL:https://swanna.waw.pl/event/proba-muzyczna-brighter-day/2027-03-28/
END:VEVENT
BEGIN:VEVENT
DTSTART;TZID=UTC:20270404T191500
DTEND;TZID=UTC:20270404T220000
DTSTAMP:20260419T193516
CREATED:20251101T083248Z
LAST-MODIFIED:20260412T122941Z
UID:10001230-1806866100-1806876000@swanna.waw.pl
SUMMARY:Próba muzyczna Brighter Day
DESCRIPTION:Nie wymagamy doświadczenia ani wykształcenia muzycznego\, wystarczy\, że lubisz muzykę! \nNasz zespół spotyka się na próbach o 19:15 w Dolnym Kościele. Później śpiewamy na Mszy Świętej o 21:00. \nSerdecznie zapraszamy! \n 
URL:https://swanna.waw.pl/event/proba-muzyczna-brighter-day/2027-04-04/
END:VEVENT
BEGIN:VEVENT
DTSTART;TZID=UTC:20270411T191500
DTEND;TZID=UTC:20270411T220000
DTSTAMP:20260419T193516
CREATED:20251101T083248Z
LAST-MODIFIED:20260412T122941Z
UID:10001231-1807470900-1807480800@swanna.waw.pl
SUMMARY:Próba muzyczna Brighter Day
DESCRIPTION:Nie wymagamy doświadczenia ani wykształcenia muzycznego\, wystarczy\, że lubisz muzykę! \nNasz zespół spotyka się na próbach o 19:15 w Dolnym Kościele. Później śpiewamy na Mszy Świętej o 21:00. \nSerdecznie zapraszamy! \n 
URL:https://swanna.waw.pl/event/proba-muzyczna-brighter-day/2027-04-11/
END:VEVENT
BEGIN:VEVENT
DTSTART;TZID=UTC:20270418T191500
DTEND;TZID=UTC:20270418T220000
DTSTAMP:20260419T193516
CREATED:20251101T083248Z
LAST-MODIFIED:20260412T122941Z
UID:10001232-1808075700-1808085600@swanna.waw.pl
SUMMARY:Próba muzyczna Brighter Day
DESCRIPTION:Nie wymagamy doświadczenia ani wykształcenia muzycznego\, wystarczy\, że lubisz muzykę! \nNasz zespół spotyka się na próbach o 19:15 w Dolnym Kościele. Później śpiewamy na Mszy Świętej o 21:00. \nSerdecznie zapraszamy! \n 
URL:https://swanna.waw.pl/event/proba-muzyczna-brighter-day/2027-04-18/
END:VEVENT
BEGIN:VEVENT
DTSTART;TZID=UTC:20270425T191500
DTEND;TZID=UTC:20270425T220000
DTSTAMP:20260419T193516
CREATED:20251101T083248Z
LAST-MODIFIED:20260412T122941Z
UID:10001233-1808680500-1808690400@swanna.waw.pl
SUMMARY:Próba muzyczna Brighter Day
DESCRIPTION:Nie wymagamy doświadczenia ani wykształcenia muzycznego\, wystarczy\, że lubisz muzykę! \nNasz zespół spotyka się na próbach o 19:15 w Dolnym Kościele. Później śpiewamy na Mszy Świętej o 21:00. \nSerdecznie zapraszamy! \n 
URL:https://swanna.waw.pl/event/proba-muzyczna-brighter-day/2027-04-25/
END:VEVENT
BEGIN:VEVENT
DTSTART;TZID=UTC:20270502T191500
DTEND;TZID=UTC:20270502T220000
DTSTAMP:20260419T193516
CREATED:20251101T083248Z
LAST-MODIFIED:20260412T122941Z
UID:10001234-1809285300-1809295200@swanna.waw.pl
SUMMARY:Próba muzyczna Brighter Day
DESCRIPTION:Nie wymagamy doświadczenia ani wykształcenia muzycznego\, wystarczy\, że lubisz muzykę! \nNasz zespół spotyka się na próbach o 19:15 w Dolnym Kościele. Później śpiewamy na Mszy Świętej o 21:00. \nSerdecznie zapraszamy! \n 
URL:https://swanna.waw.pl/event/proba-muzyczna-brighter-day/2027-05-02/
END:VEVENT
BEGIN:VEVENT
DTSTART;TZID=UTC:20270509T191500
DTEND;TZID=UTC:20270509T220000
DTSTAMP:20260419T193516
CREATED:20251101T083248Z
LAST-MODIFIED:20260412T122941Z
UID:10001235-1809890100-1809900000@swanna.waw.pl
SUMMARY:Próba muzyczna Brighter Day
DESCRIPTION:Nie wymagamy doświadczenia ani wykształcenia muzycznego\, wystarczy\, że lubisz muzykę! \nNasz zespół spotyka się na próbach o 19:15 w Dolnym Kościele. Później śpiewamy na Mszy Świętej o 21:00. \nSerdecznie zapraszamy! \n 
URL:https://swanna.waw.pl/event/proba-muzyczna-brighter-day/2027-05-09/
END:VEVENT
BEGIN:VEVENT
DTSTART;TZID=UTC:20270516T191500
DTEND;TZID=UTC:20270516T220000
DTSTAMP:20260419T193516
CREATED:20251101T083248Z
LAST-MODIFIED:20260412T122941Z
UID:10001236-1810494900-1810504800@swanna.waw.pl
SUMMARY:Próba muzyczna Brighter Day
DESCRIPTION:Nie wymagamy doświadczenia ani wykształcenia muzycznego\, wystarczy\, że lubisz muzykę! \nNasz zespół spotyka się na próbach o 19:15 w Dolnym Kościele. Później śpiewamy na Mszy Świętej o 21:00. \nSerdecznie zapraszamy! \n 
URL:https://swanna.waw.pl/event/proba-muzyczna-brighter-day/2027-05-16/
END:VEVENT
BEGIN:VEVENT
DTSTART;TZID=UTC:20270523T191500
DTEND;TZID=UTC:20270523T220000
DTSTAMP:20260419T193516
CREATED:20251101T083248Z
LAST-MODIFIED:20260412T122941Z
UID:10001237-1811099700-1811109600@swanna.waw.pl
SUMMARY:Próba muzyczna Brighter Day
DESCRIPTION:Nie wymagamy doświadczenia ani wykształcenia muzycznego\, wystarczy\, że lubisz muzykę! \nNasz zespół spotyka się na próbach o 19:15 w Dolnym Kościele. Później śpiewamy na Mszy Świętej o 21:00. \nSerdecznie zapraszamy! \n 
URL:https://swanna.waw.pl/event/proba-muzyczna-brighter-day/2027-05-23/
END:VEVENT
BEGIN:VEVENT
DTSTART;TZID=UTC:20270530T191500
DTEND;TZID=UTC:20270530T220000
DTSTAMP:20260419T193516
CREATED:20251101T083248Z
LAST-MODIFIED:20260412T122941Z
UID:10001238-1811704500-1811714400@swanna.waw.pl
SUMMARY:Próba muzyczna Brighter Day
DESCRIPTION:Nie wymagamy doświadczenia ani wykształcenia muzycznego\, wystarczy\, że lubisz muzykę! \nNasz zespół spotyka się na próbach o 19:15 w Dolnym Kościele. Później śpiewamy na Mszy Świętej o 21:00. \nSerdecznie zapraszamy! \n 
URL:https://swanna.waw.pl/event/proba-muzyczna-brighter-day/2027-05-30/
END:VEVENT
END:VCALENDAR