BEGIN:VCALENDAR
VERSION:2.0
PRODID:-//Duszpasterstwo Akademickie Św. Anny - ECPv6.15.18//NONSGML v1.0//EN
CALSCALE:GREGORIAN
METHOD:PUBLISH
X-ORIGINAL-URL:https://swanna.waw.pl
X-WR-CALDESC:Wydarzenia dla Duszpasterstwo Akademickie Św. Anny
REFRESH-INTERVAL;VALUE=DURATION:PT1H
X-Robots-Tag:noindex
X-PUBLISHED-TTL:PT1H
BEGIN:VTIMEZONE
TZID:UTC
BEGIN:STANDARD
TZOFFSETFROM:+0000
TZOFFSETTO:+0000
TZNAME:UTC
DTSTART:20280101T000000
END:STANDARD
END:VTIMEZONE
BEGIN:VEVENT
DTSTART;TZID=UTC:20291125T191500
DTEND;TZID=UTC:20291125T220000
DTSTAMP:20260420T220332
CREATED:20251101T083248Z
LAST-MODIFIED:20260419T215641Z
UID:10001368-1890328500-1890338400@swanna.waw.pl
SUMMARY:Próba muzyczna Brighter Day
DESCRIPTION:Nie wymagamy doświadczenia ani wykształcenia muzycznego\, wystarczy\, że lubisz muzykę! \nNasz zespół spotyka się na próbach o 19:15 w Dolnym Kościele. Później śpiewamy na Mszy Świętej o 21:00. \nSerdecznie zapraszamy! \n 
URL:https://swanna.waw.pl/event/proba-muzyczna-brighter-day/2029-11-25/
END:VEVENT
BEGIN:VEVENT
DTSTART;TZID=UTC:20291202T191500
DTEND;TZID=UTC:20291202T220000
DTSTAMP:20260420T220332
CREATED:20251101T083248Z
LAST-MODIFIED:20260419T215641Z
UID:10001369-1890933300-1890943200@swanna.waw.pl
SUMMARY:Próba muzyczna Brighter Day
DESCRIPTION:Nie wymagamy doświadczenia ani wykształcenia muzycznego\, wystarczy\, że lubisz muzykę! \nNasz zespół spotyka się na próbach o 19:15 w Dolnym Kościele. Później śpiewamy na Mszy Świętej o 21:00. \nSerdecznie zapraszamy! \n 
URL:https://swanna.waw.pl/event/proba-muzyczna-brighter-day/2029-12-02/
END:VEVENT
BEGIN:VEVENT
DTSTART;TZID=UTC:20291209T191500
DTEND;TZID=UTC:20291209T220000
DTSTAMP:20260420T220332
CREATED:20251101T083248Z
LAST-MODIFIED:20260419T215641Z
UID:10001370-1891538100-1891548000@swanna.waw.pl
SUMMARY:Próba muzyczna Brighter Day
DESCRIPTION:Nie wymagamy doświadczenia ani wykształcenia muzycznego\, wystarczy\, że lubisz muzykę! \nNasz zespół spotyka się na próbach o 19:15 w Dolnym Kościele. Później śpiewamy na Mszy Świętej o 21:00. \nSerdecznie zapraszamy! \n 
URL:https://swanna.waw.pl/event/proba-muzyczna-brighter-day/2029-12-09/
END:VEVENT
BEGIN:VEVENT
DTSTART;TZID=UTC:20291216T191500
DTEND;TZID=UTC:20291216T220000
DTSTAMP:20260420T220332
CREATED:20251101T083248Z
LAST-MODIFIED:20260419T215641Z
UID:10001371-1892142900-1892152800@swanna.waw.pl
SUMMARY:Próba muzyczna Brighter Day
DESCRIPTION:Nie wymagamy doświadczenia ani wykształcenia muzycznego\, wystarczy\, że lubisz muzykę! \nNasz zespół spotyka się na próbach o 19:15 w Dolnym Kościele. Później śpiewamy na Mszy Świętej o 21:00. \nSerdecznie zapraszamy! \n 
URL:https://swanna.waw.pl/event/proba-muzyczna-brighter-day/2029-12-16/
END:VEVENT
BEGIN:VEVENT
DTSTART;TZID=UTC:20291223T191500
DTEND;TZID=UTC:20291223T220000
DTSTAMP:20260420T220332
CREATED:20251101T083248Z
LAST-MODIFIED:20260419T215641Z
UID:10001372-1892747700-1892757600@swanna.waw.pl
SUMMARY:Próba muzyczna Brighter Day
DESCRIPTION:Nie wymagamy doświadczenia ani wykształcenia muzycznego\, wystarczy\, że lubisz muzykę! \nNasz zespół spotyka się na próbach o 19:15 w Dolnym Kościele. Później śpiewamy na Mszy Świętej o 21:00. \nSerdecznie zapraszamy! \n 
URL:https://swanna.waw.pl/event/proba-muzyczna-brighter-day/2029-12-23/
END:VEVENT
BEGIN:VEVENT
DTSTART;TZID=UTC:20291230T191500
DTEND;TZID=UTC:20291230T220000
DTSTAMP:20260420T220332
CREATED:20251101T083248Z
LAST-MODIFIED:20260419T215641Z
UID:10001373-1893352500-1893362400@swanna.waw.pl
SUMMARY:Próba muzyczna Brighter Day
DESCRIPTION:Nie wymagamy doświadczenia ani wykształcenia muzycznego\, wystarczy\, że lubisz muzykę! \nNasz zespół spotyka się na próbach o 19:15 w Dolnym Kościele. Później śpiewamy na Mszy Świętej o 21:00. \nSerdecznie zapraszamy! \n 
URL:https://swanna.waw.pl/event/proba-muzyczna-brighter-day/2029-12-30/
END:VEVENT
BEGIN:VEVENT
DTSTART;TZID=UTC:20300106T191500
DTEND;TZID=UTC:20300106T220000
DTSTAMP:20260420T220332
CREATED:20251101T083248Z
LAST-MODIFIED:20260419T215641Z
UID:10001374-1893957300-1893967200@swanna.waw.pl
SUMMARY:Próba muzyczna Brighter Day
DESCRIPTION:Nie wymagamy doświadczenia ani wykształcenia muzycznego\, wystarczy\, że lubisz muzykę! \nNasz zespół spotyka się na próbach o 19:15 w Dolnym Kościele. Później śpiewamy na Mszy Świętej o 21:00. \nSerdecznie zapraszamy! \n 
URL:https://swanna.waw.pl/event/proba-muzyczna-brighter-day/2030-01-06/
END:VEVENT
BEGIN:VEVENT
DTSTART;TZID=UTC:20300113T191500
DTEND;TZID=UTC:20300113T220000
DTSTAMP:20260420T220332
CREATED:20251101T083248Z
LAST-MODIFIED:20260419T215641Z
UID:10001375-1894562100-1894572000@swanna.waw.pl
SUMMARY:Próba muzyczna Brighter Day
DESCRIPTION:Nie wymagamy doświadczenia ani wykształcenia muzycznego\, wystarczy\, że lubisz muzykę! \nNasz zespół spotyka się na próbach o 19:15 w Dolnym Kościele. Później śpiewamy na Mszy Świętej o 21:00. \nSerdecznie zapraszamy! \n 
URL:https://swanna.waw.pl/event/proba-muzyczna-brighter-day/2030-01-13/
END:VEVENT
BEGIN:VEVENT
DTSTART;TZID=UTC:20300120T191500
DTEND;TZID=UTC:20300120T220000
DTSTAMP:20260420T220332
CREATED:20251101T083248Z
LAST-MODIFIED:20260419T215641Z
UID:10001376-1895166900-1895176800@swanna.waw.pl
SUMMARY:Próba muzyczna Brighter Day
DESCRIPTION:Nie wymagamy doświadczenia ani wykształcenia muzycznego\, wystarczy\, że lubisz muzykę! \nNasz zespół spotyka się na próbach o 19:15 w Dolnym Kościele. Później śpiewamy na Mszy Świętej o 21:00. \nSerdecznie zapraszamy! \n 
URL:https://swanna.waw.pl/event/proba-muzyczna-brighter-day/2030-01-20/
END:VEVENT
BEGIN:VEVENT
DTSTART;TZID=UTC:20300127T191500
DTEND;TZID=UTC:20300127T220000
DTSTAMP:20260420T220332
CREATED:20251101T083248Z
LAST-MODIFIED:20260419T215641Z
UID:10001377-1895771700-1895781600@swanna.waw.pl
SUMMARY:Próba muzyczna Brighter Day
DESCRIPTION:Nie wymagamy doświadczenia ani wykształcenia muzycznego\, wystarczy\, że lubisz muzykę! \nNasz zespół spotyka się na próbach o 19:15 w Dolnym Kościele. Później śpiewamy na Mszy Świętej o 21:00. \nSerdecznie zapraszamy! \n 
URL:https://swanna.waw.pl/event/proba-muzyczna-brighter-day/2030-01-27/
END:VEVENT
BEGIN:VEVENT
DTSTART;TZID=UTC:20300203T191500
DTEND;TZID=UTC:20300203T220000
DTSTAMP:20260420T220332
CREATED:20251101T083248Z
LAST-MODIFIED:20260419T215641Z
UID:10001378-1896376500-1896386400@swanna.waw.pl
SUMMARY:Próba muzyczna Brighter Day
DESCRIPTION:Nie wymagamy doświadczenia ani wykształcenia muzycznego\, wystarczy\, że lubisz muzykę! \nNasz zespół spotyka się na próbach o 19:15 w Dolnym Kościele. Później śpiewamy na Mszy Świętej o 21:00. \nSerdecznie zapraszamy! \n 
URL:https://swanna.waw.pl/event/proba-muzyczna-brighter-day/2030-02-03/
END:VEVENT
BEGIN:VEVENT
DTSTART;TZID=UTC:20300210T191500
DTEND;TZID=UTC:20300210T220000
DTSTAMP:20260420T220332
CREATED:20251101T083248Z
LAST-MODIFIED:20260419T215641Z
UID:10001379-1896981300-1896991200@swanna.waw.pl
SUMMARY:Próba muzyczna Brighter Day
DESCRIPTION:Nie wymagamy doświadczenia ani wykształcenia muzycznego\, wystarczy\, że lubisz muzykę! \nNasz zespół spotyka się na próbach o 19:15 w Dolnym Kościele. Później śpiewamy na Mszy Świętej o 21:00. \nSerdecznie zapraszamy! \n 
URL:https://swanna.waw.pl/event/proba-muzyczna-brighter-day/2030-02-10/
END:VEVENT
BEGIN:VEVENT
DTSTART;TZID=UTC:20300217T191500
DTEND;TZID=UTC:20300217T220000
DTSTAMP:20260420T220332
CREATED:20251101T083248Z
LAST-MODIFIED:20260419T215641Z
UID:10001380-1897586100-1897596000@swanna.waw.pl
SUMMARY:Próba muzyczna Brighter Day
DESCRIPTION:Nie wymagamy doświadczenia ani wykształcenia muzycznego\, wystarczy\, że lubisz muzykę! \nNasz zespół spotyka się na próbach o 19:15 w Dolnym Kościele. Później śpiewamy na Mszy Świętej o 21:00. \nSerdecznie zapraszamy! \n 
URL:https://swanna.waw.pl/event/proba-muzyczna-brighter-day/2030-02-17/
END:VEVENT
BEGIN:VEVENT
DTSTART;TZID=UTC:20300224T191500
DTEND;TZID=UTC:20300224T220000
DTSTAMP:20260420T220332
CREATED:20251101T083248Z
LAST-MODIFIED:20260419T215641Z
UID:10001381-1898190900-1898200800@swanna.waw.pl
SUMMARY:Próba muzyczna Brighter Day
DESCRIPTION:Nie wymagamy doświadczenia ani wykształcenia muzycznego\, wystarczy\, że lubisz muzykę! \nNasz zespół spotyka się na próbach o 19:15 w Dolnym Kościele. Później śpiewamy na Mszy Świętej o 21:00. \nSerdecznie zapraszamy! \n 
URL:https://swanna.waw.pl/event/proba-muzyczna-brighter-day/2030-02-24/
END:VEVENT
BEGIN:VEVENT
DTSTART;TZID=UTC:20300303T191500
DTEND;TZID=UTC:20300303T220000
DTSTAMP:20260420T220332
CREATED:20251101T083248Z
LAST-MODIFIED:20260419T215641Z
UID:10001382-1898795700-1898805600@swanna.waw.pl
SUMMARY:Próba muzyczna Brighter Day
DESCRIPTION:Nie wymagamy doświadczenia ani wykształcenia muzycznego\, wystarczy\, że lubisz muzykę! \nNasz zespół spotyka się na próbach o 19:15 w Dolnym Kościele. Później śpiewamy na Mszy Świętej o 21:00. \nSerdecznie zapraszamy! \n 
URL:https://swanna.waw.pl/event/proba-muzyczna-brighter-day/2030-03-03/
END:VEVENT
BEGIN:VEVENT
DTSTART;TZID=UTC:20300310T191500
DTEND;TZID=UTC:20300310T220000
DTSTAMP:20260420T220332
CREATED:20251101T083248Z
LAST-MODIFIED:20260419T215641Z
UID:10001383-1899400500-1899410400@swanna.waw.pl
SUMMARY:Próba muzyczna Brighter Day
DESCRIPTION:Nie wymagamy doświadczenia ani wykształcenia muzycznego\, wystarczy\, że lubisz muzykę! \nNasz zespół spotyka się na próbach o 19:15 w Dolnym Kościele. Później śpiewamy na Mszy Świętej o 21:00. \nSerdecznie zapraszamy! \n 
URL:https://swanna.waw.pl/event/proba-muzyczna-brighter-day/2030-03-10/
END:VEVENT
BEGIN:VEVENT
DTSTART;TZID=UTC:20300317T191500
DTEND;TZID=UTC:20300317T220000
DTSTAMP:20260420T220332
CREATED:20251101T083248Z
LAST-MODIFIED:20260419T215641Z
UID:10001384-1900005300-1900015200@swanna.waw.pl
SUMMARY:Próba muzyczna Brighter Day
DESCRIPTION:Nie wymagamy doświadczenia ani wykształcenia muzycznego\, wystarczy\, że lubisz muzykę! \nNasz zespół spotyka się na próbach o 19:15 w Dolnym Kościele. Później śpiewamy na Mszy Świętej o 21:00. \nSerdecznie zapraszamy! \n 
URL:https://swanna.waw.pl/event/proba-muzyczna-brighter-day/2030-03-17/
END:VEVENT
BEGIN:VEVENT
DTSTART;TZID=UTC:20300324T191500
DTEND;TZID=UTC:20300324T220000
DTSTAMP:20260420T220332
CREATED:20251101T083248Z
LAST-MODIFIED:20260419T215641Z
UID:10001385-1900610100-1900620000@swanna.waw.pl
SUMMARY:Próba muzyczna Brighter Day
DESCRIPTION:Nie wymagamy doświadczenia ani wykształcenia muzycznego\, wystarczy\, że lubisz muzykę! \nNasz zespół spotyka się na próbach o 19:15 w Dolnym Kościele. Później śpiewamy na Mszy Świętej o 21:00. \nSerdecznie zapraszamy! \n 
URL:https://swanna.waw.pl/event/proba-muzyczna-brighter-day/2030-03-24/
END:VEVENT
BEGIN:VEVENT
DTSTART;TZID=UTC:20300331T191500
DTEND;TZID=UTC:20300331T220000
DTSTAMP:20260420T220332
CREATED:20251101T083248Z
LAST-MODIFIED:20260419T215641Z
UID:10001386-1901214900-1901224800@swanna.waw.pl
SUMMARY:Próba muzyczna Brighter Day
DESCRIPTION:Nie wymagamy doświadczenia ani wykształcenia muzycznego\, wystarczy\, że lubisz muzykę! \nNasz zespół spotyka się na próbach o 19:15 w Dolnym Kościele. Później śpiewamy na Mszy Świętej o 21:00. \nSerdecznie zapraszamy! \n 
URL:https://swanna.waw.pl/event/proba-muzyczna-brighter-day/2030-03-31/
END:VEVENT
BEGIN:VEVENT
DTSTART;TZID=UTC:20300407T191500
DTEND;TZID=UTC:20300407T220000
DTSTAMP:20260420T220332
CREATED:20251101T083248Z
LAST-MODIFIED:20260419T215641Z
UID:10001387-1901819700-1901829600@swanna.waw.pl
SUMMARY:Próba muzyczna Brighter Day
DESCRIPTION:Nie wymagamy doświadczenia ani wykształcenia muzycznego\, wystarczy\, że lubisz muzykę! \nNasz zespół spotyka się na próbach o 19:15 w Dolnym Kościele. Później śpiewamy na Mszy Świętej o 21:00. \nSerdecznie zapraszamy! \n 
URL:https://swanna.waw.pl/event/proba-muzyczna-brighter-day/2030-04-07/
END:VEVENT
BEGIN:VEVENT
DTSTART;TZID=UTC:20300414T191500
DTEND;TZID=UTC:20300414T220000
DTSTAMP:20260420T220332
CREATED:20251101T083248Z
LAST-MODIFIED:20260419T215641Z
UID:10001388-1902424500-1902434400@swanna.waw.pl
SUMMARY:Próba muzyczna Brighter Day
DESCRIPTION:Nie wymagamy doświadczenia ani wykształcenia muzycznego\, wystarczy\, że lubisz muzykę! \nNasz zespół spotyka się na próbach o 19:15 w Dolnym Kościele. Później śpiewamy na Mszy Świętej o 21:00. \nSerdecznie zapraszamy! \n 
URL:https://swanna.waw.pl/event/proba-muzyczna-brighter-day/2030-04-14/
END:VEVENT
BEGIN:VEVENT
DTSTART;TZID=UTC:20300421T191500
DTEND;TZID=UTC:20300421T220000
DTSTAMP:20260420T220332
CREATED:20251101T083248Z
LAST-MODIFIED:20260419T215641Z
UID:10001389-1903029300-1903039200@swanna.waw.pl
SUMMARY:Próba muzyczna Brighter Day
DESCRIPTION:Nie wymagamy doświadczenia ani wykształcenia muzycznego\, wystarczy\, że lubisz muzykę! \nNasz zespół spotyka się na próbach o 19:15 w Dolnym Kościele. Później śpiewamy na Mszy Świętej o 21:00. \nSerdecznie zapraszamy! \n 
URL:https://swanna.waw.pl/event/proba-muzyczna-brighter-day/2030-04-21/
END:VEVENT
BEGIN:VEVENT
DTSTART;TZID=UTC:20300428T191500
DTEND;TZID=UTC:20300428T220000
DTSTAMP:20260420T220332
CREATED:20251101T083248Z
LAST-MODIFIED:20260419T215641Z
UID:10001390-1903634100-1903644000@swanna.waw.pl
SUMMARY:Próba muzyczna Brighter Day
DESCRIPTION:Nie wymagamy doświadczenia ani wykształcenia muzycznego\, wystarczy\, że lubisz muzykę! \nNasz zespół spotyka się na próbach o 19:15 w Dolnym Kościele. Później śpiewamy na Mszy Świętej o 21:00. \nSerdecznie zapraszamy! \n 
URL:https://swanna.waw.pl/event/proba-muzyczna-brighter-day/2030-04-28/
END:VEVENT
BEGIN:VEVENT
DTSTART;TZID=UTC:20300505T191500
DTEND;TZID=UTC:20300505T220000
DTSTAMP:20260420T220332
CREATED:20251101T083248Z
LAST-MODIFIED:20260419T215641Z
UID:10001391-1904238900-1904248800@swanna.waw.pl
SUMMARY:Próba muzyczna Brighter Day
DESCRIPTION:Nie wymagamy doświadczenia ani wykształcenia muzycznego\, wystarczy\, że lubisz muzykę! \nNasz zespół spotyka się na próbach o 19:15 w Dolnym Kościele. Później śpiewamy na Mszy Świętej o 21:00. \nSerdecznie zapraszamy! \n 
URL:https://swanna.waw.pl/event/proba-muzyczna-brighter-day/2030-05-05/
END:VEVENT
BEGIN:VEVENT
DTSTART;TZID=UTC:20300512T191500
DTEND;TZID=UTC:20300512T220000
DTSTAMP:20260420T220332
CREATED:20251101T083248Z
LAST-MODIFIED:20260419T215641Z
UID:10001392-1904843700-1904853600@swanna.waw.pl
SUMMARY:Próba muzyczna Brighter Day
DESCRIPTION:Nie wymagamy doświadczenia ani wykształcenia muzycznego\, wystarczy\, że lubisz muzykę! \nNasz zespół spotyka się na próbach o 19:15 w Dolnym Kościele. Później śpiewamy na Mszy Świętej o 21:00. \nSerdecznie zapraszamy! \n 
URL:https://swanna.waw.pl/event/proba-muzyczna-brighter-day/2030-05-12/
END:VEVENT
BEGIN:VEVENT
DTSTART;TZID=UTC:20300519T191500
DTEND;TZID=UTC:20300519T220000
DTSTAMP:20260420T220332
CREATED:20251101T083248Z
LAST-MODIFIED:20260419T215641Z
UID:10001393-1905448500-1905458400@swanna.waw.pl
SUMMARY:Próba muzyczna Brighter Day
DESCRIPTION:Nie wymagamy doświadczenia ani wykształcenia muzycznego\, wystarczy\, że lubisz muzykę! \nNasz zespół spotyka się na próbach o 19:15 w Dolnym Kościele. Później śpiewamy na Mszy Świętej o 21:00. \nSerdecznie zapraszamy! \n 
URL:https://swanna.waw.pl/event/proba-muzyczna-brighter-day/2030-05-19/
END:VEVENT
BEGIN:VEVENT
DTSTART;TZID=UTC:20300526T191500
DTEND;TZID=UTC:20300526T220000
DTSTAMP:20260420T220332
CREATED:20251101T083248Z
LAST-MODIFIED:20260419T215641Z
UID:10001394-1906053300-1906063200@swanna.waw.pl
SUMMARY:Próba muzyczna Brighter Day
DESCRIPTION:Nie wymagamy doświadczenia ani wykształcenia muzycznego\, wystarczy\, że lubisz muzykę! \nNasz zespół spotyka się na próbach o 19:15 w Dolnym Kościele. Później śpiewamy na Mszy Świętej o 21:00. \nSerdecznie zapraszamy! \n 
URL:https://swanna.waw.pl/event/proba-muzyczna-brighter-day/2030-05-26/
END:VEVENT
BEGIN:VEVENT
DTSTART;TZID=UTC:20300602T191500
DTEND;TZID=UTC:20300602T220000
DTSTAMP:20260420T220332
CREATED:20251101T083248Z
LAST-MODIFIED:20260419T215641Z
UID:10001395-1906658100-1906668000@swanna.waw.pl
SUMMARY:Próba muzyczna Brighter Day
DESCRIPTION:Nie wymagamy doświadczenia ani wykształcenia muzycznego\, wystarczy\, że lubisz muzykę! \nNasz zespół spotyka się na próbach o 19:15 w Dolnym Kościele. Później śpiewamy na Mszy Świętej o 21:00. \nSerdecznie zapraszamy! \n 
URL:https://swanna.waw.pl/event/proba-muzyczna-brighter-day/2030-06-02/
END:VEVENT
BEGIN:VEVENT
DTSTART;TZID=UTC:20300609T191500
DTEND;TZID=UTC:20300609T220000
DTSTAMP:20260420T220332
CREATED:20251101T083248Z
LAST-MODIFIED:20260419T215641Z
UID:10001396-1907262900-1907272800@swanna.waw.pl
SUMMARY:Próba muzyczna Brighter Day
DESCRIPTION:Nie wymagamy doświadczenia ani wykształcenia muzycznego\, wystarczy\, że lubisz muzykę! \nNasz zespół spotyka się na próbach o 19:15 w Dolnym Kościele. Później śpiewamy na Mszy Świętej o 21:00. \nSerdecznie zapraszamy! \n 
URL:https://swanna.waw.pl/event/proba-muzyczna-brighter-day/2030-06-09/
END:VEVENT
BEGIN:VEVENT
DTSTART;TZID=UTC:20300616T191500
DTEND;TZID=UTC:20300616T220000
DTSTAMP:20260420T220332
CREATED:20251101T083248Z
LAST-MODIFIED:20260419T215641Z
UID:10001397-1907867700-1907877600@swanna.waw.pl
SUMMARY:Próba muzyczna Brighter Day
DESCRIPTION:Nie wymagamy doświadczenia ani wykształcenia muzycznego\, wystarczy\, że lubisz muzykę! \nNasz zespół spotyka się na próbach o 19:15 w Dolnym Kościele. Później śpiewamy na Mszy Świętej o 21:00. \nSerdecznie zapraszamy! \n 
URL:https://swanna.waw.pl/event/proba-muzyczna-brighter-day/2030-06-16/
END:VEVENT
END:VCALENDAR