BEGIN:VCALENDAR
VERSION:2.0
PRODID:-//Duszpasterstwo Akademickie Św. Anny - ECPv6.15.18//NONSGML v1.0//EN
CALSCALE:GREGORIAN
METHOD:PUBLISH
X-ORIGINAL-URL:https://swanna.waw.pl
X-WR-CALDESC:Wydarzenia dla Duszpasterstwo Akademickie Św. Anny
REFRESH-INTERVAL;VALUE=DURATION:PT1H
X-Robots-Tag:noindex
X-PUBLISHED-TTL:PT1H
BEGIN:VTIMEZONE
TZID:UTC
BEGIN:STANDARD
TZOFFSETFROM:+0000
TZOFFSETTO:+0000
TZNAME:UTC
DTSTART:20280101T000000
END:STANDARD
END:VTIMEZONE
BEGIN:VEVENT
DTSTART;TZID=UTC:20290701T191500
DTEND;TZID=UTC:20290701T220000
DTSTAMP:20260424T084525
CREATED:20251101T083248Z
LAST-MODIFIED:20260419T215641Z
UID:10001347-1877627700-1877637600@swanna.waw.pl
SUMMARY:Próba muzyczna Brighter Day
DESCRIPTION:Nie wymagamy doświadczenia ani wykształcenia muzycznego\, wystarczy\, że lubisz muzykę! \nNasz zespół spotyka się na próbach o 19:15 w Dolnym Kościele. Później śpiewamy na Mszy Świętej o 21:00. \nSerdecznie zapraszamy! \n 
URL:https://swanna.waw.pl/event/proba-muzyczna-brighter-day/2029-07-01/
END:VEVENT
BEGIN:VEVENT
DTSTART;TZID=UTC:20290708T191500
DTEND;TZID=UTC:20290708T220000
DTSTAMP:20260424T084525
CREATED:20251101T083248Z
LAST-MODIFIED:20260419T215641Z
UID:10001348-1878232500-1878242400@swanna.waw.pl
SUMMARY:Próba muzyczna Brighter Day
DESCRIPTION:Nie wymagamy doświadczenia ani wykształcenia muzycznego\, wystarczy\, że lubisz muzykę! \nNasz zespół spotyka się na próbach o 19:15 w Dolnym Kościele. Później śpiewamy na Mszy Świętej o 21:00. \nSerdecznie zapraszamy! \n 
URL:https://swanna.waw.pl/event/proba-muzyczna-brighter-day/2029-07-08/
END:VEVENT
BEGIN:VEVENT
DTSTART;TZID=UTC:20290715T191500
DTEND;TZID=UTC:20290715T220000
DTSTAMP:20260424T084525
CREATED:20251101T083248Z
LAST-MODIFIED:20260419T215641Z
UID:10001349-1878837300-1878847200@swanna.waw.pl
SUMMARY:Próba muzyczna Brighter Day
DESCRIPTION:Nie wymagamy doświadczenia ani wykształcenia muzycznego\, wystarczy\, że lubisz muzykę! \nNasz zespół spotyka się na próbach o 19:15 w Dolnym Kościele. Później śpiewamy na Mszy Świętej o 21:00. \nSerdecznie zapraszamy! \n 
URL:https://swanna.waw.pl/event/proba-muzyczna-brighter-day/2029-07-15/
END:VEVENT
BEGIN:VEVENT
DTSTART;TZID=UTC:20290722T191500
DTEND;TZID=UTC:20290722T220000
DTSTAMP:20260424T084525
CREATED:20251101T083248Z
LAST-MODIFIED:20260419T215641Z
UID:10001350-1879442100-1879452000@swanna.waw.pl
SUMMARY:Próba muzyczna Brighter Day
DESCRIPTION:Nie wymagamy doświadczenia ani wykształcenia muzycznego\, wystarczy\, że lubisz muzykę! \nNasz zespół spotyka się na próbach o 19:15 w Dolnym Kościele. Później śpiewamy na Mszy Świętej o 21:00. \nSerdecznie zapraszamy! \n 
URL:https://swanna.waw.pl/event/proba-muzyczna-brighter-day/2029-07-22/
END:VEVENT
BEGIN:VEVENT
DTSTART;TZID=UTC:20290729T191500
DTEND;TZID=UTC:20290729T220000
DTSTAMP:20260424T084525
CREATED:20251101T083248Z
LAST-MODIFIED:20260419T215641Z
UID:10001351-1880046900-1880056800@swanna.waw.pl
SUMMARY:Próba muzyczna Brighter Day
DESCRIPTION:Nie wymagamy doświadczenia ani wykształcenia muzycznego\, wystarczy\, że lubisz muzykę! \nNasz zespół spotyka się na próbach o 19:15 w Dolnym Kościele. Później śpiewamy na Mszy Świętej o 21:00. \nSerdecznie zapraszamy! \n 
URL:https://swanna.waw.pl/event/proba-muzyczna-brighter-day/2029-07-29/
END:VEVENT
END:VCALENDAR