BEGIN:VCALENDAR
VERSION:2.0
PRODID:-//Duszpasterstwo Akademickie Św. Anny - ECPv6.15.18//NONSGML v1.0//EN
CALSCALE:GREGORIAN
METHOD:PUBLISH
X-WR-CALNAME:Duszpasterstwo Akademickie Św. Anny
X-ORIGINAL-URL:https://swanna.waw.pl
X-WR-CALDESC:Wydarzenia dla Duszpasterstwo Akademickie Św. Anny
REFRESH-INTERVAL;VALUE=DURATION:PT1H
X-Robots-Tag:noindex
X-PUBLISHED-TTL:PT1H
BEGIN:VTIMEZONE
TZID:UTC
BEGIN:STANDARD
TZOFFSETFROM:+0000
TZOFFSETTO:+0000
TZNAME:UTC
DTSTART:20270101T000000
END:STANDARD
END:VTIMEZONE
BEGIN:VEVENT
DTSTART;TZID=UTC:20280625T191500
DTEND;TZID=UTC:20280625T220000
DTSTAMP:20260420T061320
CREATED:20251101T083248Z
LAST-MODIFIED:20260419T215641Z
UID:10001294-1845573300-1845583200@swanna.waw.pl
SUMMARY:Próba muzyczna Brighter Day
DESCRIPTION:Nie wymagamy doświadczenia ani wykształcenia muzycznego\, wystarczy\, że lubisz muzykę! \nNasz zespół spotyka się na próbach o 19:15 w Dolnym Kościele. Później śpiewamy na Mszy Świętej o 21:00. \nSerdecznie zapraszamy! \n 
URL:https://swanna.waw.pl/event/proba-muzyczna-brighter-day/2028-06-25/
END:VEVENT
BEGIN:VEVENT
DTSTART;TZID=UTC:20280702T191500
DTEND;TZID=UTC:20280702T220000
DTSTAMP:20260420T061320
CREATED:20251101T083248Z
LAST-MODIFIED:20260419T215641Z
UID:10001295-1846178100-1846188000@swanna.waw.pl
SUMMARY:Próba muzyczna Brighter Day
DESCRIPTION:Nie wymagamy doświadczenia ani wykształcenia muzycznego\, wystarczy\, że lubisz muzykę! \nNasz zespół spotyka się na próbach o 19:15 w Dolnym Kościele. Później śpiewamy na Mszy Świętej o 21:00. \nSerdecznie zapraszamy! \n 
URL:https://swanna.waw.pl/event/proba-muzyczna-brighter-day/2028-07-02/
END:VEVENT
BEGIN:VEVENT
DTSTART;TZID=UTC:20280709T191500
DTEND;TZID=UTC:20280709T220000
DTSTAMP:20260420T061320
CREATED:20251101T083248Z
LAST-MODIFIED:20260419T215641Z
UID:10001296-1846782900-1846792800@swanna.waw.pl
SUMMARY:Próba muzyczna Brighter Day
DESCRIPTION:Nie wymagamy doświadczenia ani wykształcenia muzycznego\, wystarczy\, że lubisz muzykę! \nNasz zespół spotyka się na próbach o 19:15 w Dolnym Kościele. Później śpiewamy na Mszy Świętej o 21:00. \nSerdecznie zapraszamy! \n 
URL:https://swanna.waw.pl/event/proba-muzyczna-brighter-day/2028-07-09/
END:VEVENT
BEGIN:VEVENT
DTSTART;TZID=UTC:20280716T191500
DTEND;TZID=UTC:20280716T220000
DTSTAMP:20260420T061320
CREATED:20251101T083248Z
LAST-MODIFIED:20260419T215641Z
UID:10001297-1847387700-1847397600@swanna.waw.pl
SUMMARY:Próba muzyczna Brighter Day
DESCRIPTION:Nie wymagamy doświadczenia ani wykształcenia muzycznego\, wystarczy\, że lubisz muzykę! \nNasz zespół spotyka się na próbach o 19:15 w Dolnym Kościele. Później śpiewamy na Mszy Świętej o 21:00. \nSerdecznie zapraszamy! \n 
URL:https://swanna.waw.pl/event/proba-muzyczna-brighter-day/2028-07-16/
END:VEVENT
BEGIN:VEVENT
DTSTART;TZID=UTC:20280723T191500
DTEND;TZID=UTC:20280723T220000
DTSTAMP:20260420T061320
CREATED:20251101T083248Z
LAST-MODIFIED:20260419T215641Z
UID:10001298-1847992500-1848002400@swanna.waw.pl
SUMMARY:Próba muzyczna Brighter Day
DESCRIPTION:Nie wymagamy doświadczenia ani wykształcenia muzycznego\, wystarczy\, że lubisz muzykę! \nNasz zespół spotyka się na próbach o 19:15 w Dolnym Kościele. Później śpiewamy na Mszy Świętej o 21:00. \nSerdecznie zapraszamy! \n 
URL:https://swanna.waw.pl/event/proba-muzyczna-brighter-day/2028-07-23/
END:VEVENT
BEGIN:VEVENT
DTSTART;TZID=UTC:20280730T191500
DTEND;TZID=UTC:20280730T220000
DTSTAMP:20260420T061320
CREATED:20251101T083248Z
LAST-MODIFIED:20260419T215641Z
UID:10001299-1848597300-1848607200@swanna.waw.pl
SUMMARY:Próba muzyczna Brighter Day
DESCRIPTION:Nie wymagamy doświadczenia ani wykształcenia muzycznego\, wystarczy\, że lubisz muzykę! \nNasz zespół spotyka się na próbach o 19:15 w Dolnym Kościele. Później śpiewamy na Mszy Świętej o 21:00. \nSerdecznie zapraszamy! \n 
URL:https://swanna.waw.pl/event/proba-muzyczna-brighter-day/2028-07-30/
END:VEVENT
BEGIN:VEVENT
DTSTART;TZID=UTC:20280806T191500
DTEND;TZID=UTC:20280806T220000
DTSTAMP:20260420T061320
CREATED:20251101T083248Z
LAST-MODIFIED:20260419T215641Z
UID:10001300-1849202100-1849212000@swanna.waw.pl
SUMMARY:Próba muzyczna Brighter Day
DESCRIPTION:Nie wymagamy doświadczenia ani wykształcenia muzycznego\, wystarczy\, że lubisz muzykę! \nNasz zespół spotyka się na próbach o 19:15 w Dolnym Kościele. Później śpiewamy na Mszy Świętej o 21:00. \nSerdecznie zapraszamy! \n 
URL:https://swanna.waw.pl/event/proba-muzyczna-brighter-day/2028-08-06/
END:VEVENT
BEGIN:VEVENT
DTSTART;TZID=UTC:20280813T191500
DTEND;TZID=UTC:20280813T220000
DTSTAMP:20260420T061320
CREATED:20251101T083248Z
LAST-MODIFIED:20260419T215641Z
UID:10001301-1849806900-1849816800@swanna.waw.pl
SUMMARY:Próba muzyczna Brighter Day
DESCRIPTION:Nie wymagamy doświadczenia ani wykształcenia muzycznego\, wystarczy\, że lubisz muzykę! \nNasz zespół spotyka się na próbach o 19:15 w Dolnym Kościele. Później śpiewamy na Mszy Świętej o 21:00. \nSerdecznie zapraszamy! \n 
URL:https://swanna.waw.pl/event/proba-muzyczna-brighter-day/2028-08-13/
END:VEVENT
BEGIN:VEVENT
DTSTART;TZID=UTC:20280820T191500
DTEND;TZID=UTC:20280820T220000
DTSTAMP:20260420T061320
CREATED:20251101T083248Z
LAST-MODIFIED:20260419T215641Z
UID:10001302-1850411700-1850421600@swanna.waw.pl
SUMMARY:Próba muzyczna Brighter Day
DESCRIPTION:Nie wymagamy doświadczenia ani wykształcenia muzycznego\, wystarczy\, że lubisz muzykę! \nNasz zespół spotyka się na próbach o 19:15 w Dolnym Kościele. Później śpiewamy na Mszy Świętej o 21:00. \nSerdecznie zapraszamy! \n 
URL:https://swanna.waw.pl/event/proba-muzyczna-brighter-day/2028-08-20/
END:VEVENT
BEGIN:VEVENT
DTSTART;TZID=UTC:20280827T191500
DTEND;TZID=UTC:20280827T220000
DTSTAMP:20260420T061320
CREATED:20251101T083248Z
LAST-MODIFIED:20260419T215641Z
UID:10001303-1851016500-1851026400@swanna.waw.pl
SUMMARY:Próba muzyczna Brighter Day
DESCRIPTION:Nie wymagamy doświadczenia ani wykształcenia muzycznego\, wystarczy\, że lubisz muzykę! \nNasz zespół spotyka się na próbach o 19:15 w Dolnym Kościele. Później śpiewamy na Mszy Świętej o 21:00. \nSerdecznie zapraszamy! \n 
URL:https://swanna.waw.pl/event/proba-muzyczna-brighter-day/2028-08-27/
END:VEVENT
BEGIN:VEVENT
DTSTART;TZID=UTC:20280903T191500
DTEND;TZID=UTC:20280903T220000
DTSTAMP:20260420T061320
CREATED:20251101T083248Z
LAST-MODIFIED:20260419T215641Z
UID:10001304-1851621300-1851631200@swanna.waw.pl
SUMMARY:Próba muzyczna Brighter Day
DESCRIPTION:Nie wymagamy doświadczenia ani wykształcenia muzycznego\, wystarczy\, że lubisz muzykę! \nNasz zespół spotyka się na próbach o 19:15 w Dolnym Kościele. Później śpiewamy na Mszy Świętej o 21:00. \nSerdecznie zapraszamy! \n 
URL:https://swanna.waw.pl/event/proba-muzyczna-brighter-day/2028-09-03/
END:VEVENT
BEGIN:VEVENT
DTSTART;TZID=UTC:20280910T191500
DTEND;TZID=UTC:20280910T220000
DTSTAMP:20260420T061320
CREATED:20251101T083248Z
LAST-MODIFIED:20260419T215641Z
UID:10001305-1852226100-1852236000@swanna.waw.pl
SUMMARY:Próba muzyczna Brighter Day
DESCRIPTION:Nie wymagamy doświadczenia ani wykształcenia muzycznego\, wystarczy\, że lubisz muzykę! \nNasz zespół spotyka się na próbach o 19:15 w Dolnym Kościele. Później śpiewamy na Mszy Świętej o 21:00. \nSerdecznie zapraszamy! \n 
URL:https://swanna.waw.pl/event/proba-muzyczna-brighter-day/2028-09-10/
END:VEVENT
BEGIN:VEVENT
DTSTART;TZID=UTC:20280917T191500
DTEND;TZID=UTC:20280917T220000
DTSTAMP:20260420T061320
CREATED:20251101T083248Z
LAST-MODIFIED:20260419T215641Z
UID:10001306-1852830900-1852840800@swanna.waw.pl
SUMMARY:Próba muzyczna Brighter Day
DESCRIPTION:Nie wymagamy doświadczenia ani wykształcenia muzycznego\, wystarczy\, że lubisz muzykę! \nNasz zespół spotyka się na próbach o 19:15 w Dolnym Kościele. Później śpiewamy na Mszy Świętej o 21:00. \nSerdecznie zapraszamy! \n 
URL:https://swanna.waw.pl/event/proba-muzyczna-brighter-day/2028-09-17/
END:VEVENT
BEGIN:VEVENT
DTSTART;TZID=UTC:20280924T191500
DTEND;TZID=UTC:20280924T220000
DTSTAMP:20260420T061320
CREATED:20251101T083248Z
LAST-MODIFIED:20260419T215641Z
UID:10001307-1853435700-1853445600@swanna.waw.pl
SUMMARY:Próba muzyczna Brighter Day
DESCRIPTION:Nie wymagamy doświadczenia ani wykształcenia muzycznego\, wystarczy\, że lubisz muzykę! \nNasz zespół spotyka się na próbach o 19:15 w Dolnym Kościele. Później śpiewamy na Mszy Świętej o 21:00. \nSerdecznie zapraszamy! \n 
URL:https://swanna.waw.pl/event/proba-muzyczna-brighter-day/2028-09-24/
END:VEVENT
BEGIN:VEVENT
DTSTART;TZID=UTC:20281001T191500
DTEND;TZID=UTC:20281001T220000
DTSTAMP:20260420T061320
CREATED:20251101T083248Z
LAST-MODIFIED:20260419T215641Z
UID:10001308-1854040500-1854050400@swanna.waw.pl
SUMMARY:Próba muzyczna Brighter Day
DESCRIPTION:Nie wymagamy doświadczenia ani wykształcenia muzycznego\, wystarczy\, że lubisz muzykę! \nNasz zespół spotyka się na próbach o 19:15 w Dolnym Kościele. Później śpiewamy na Mszy Świętej o 21:00. \nSerdecznie zapraszamy! \n 
URL:https://swanna.waw.pl/event/proba-muzyczna-brighter-day/2028-10-01/
END:VEVENT
BEGIN:VEVENT
DTSTART;TZID=UTC:20281008T191500
DTEND;TZID=UTC:20281008T220000
DTSTAMP:20260420T061320
CREATED:20251101T083248Z
LAST-MODIFIED:20260419T215641Z
UID:10001309-1854645300-1854655200@swanna.waw.pl
SUMMARY:Próba muzyczna Brighter Day
DESCRIPTION:Nie wymagamy doświadczenia ani wykształcenia muzycznego\, wystarczy\, że lubisz muzykę! \nNasz zespół spotyka się na próbach o 19:15 w Dolnym Kościele. Później śpiewamy na Mszy Świętej o 21:00. \nSerdecznie zapraszamy! \n 
URL:https://swanna.waw.pl/event/proba-muzyczna-brighter-day/2028-10-08/
END:VEVENT
BEGIN:VEVENT
DTSTART;TZID=UTC:20281015T191500
DTEND;TZID=UTC:20281015T220000
DTSTAMP:20260420T061320
CREATED:20251101T083248Z
LAST-MODIFIED:20260419T215641Z
UID:10001310-1855250100-1855260000@swanna.waw.pl
SUMMARY:Próba muzyczna Brighter Day
DESCRIPTION:Nie wymagamy doświadczenia ani wykształcenia muzycznego\, wystarczy\, że lubisz muzykę! \nNasz zespół spotyka się na próbach o 19:15 w Dolnym Kościele. Później śpiewamy na Mszy Świętej o 21:00. \nSerdecznie zapraszamy! \n 
URL:https://swanna.waw.pl/event/proba-muzyczna-brighter-day/2028-10-15/
END:VEVENT
BEGIN:VEVENT
DTSTART;TZID=UTC:20281022T191500
DTEND;TZID=UTC:20281022T220000
DTSTAMP:20260420T061320
CREATED:20251101T083248Z
LAST-MODIFIED:20260419T215641Z
UID:10001311-1855854900-1855864800@swanna.waw.pl
SUMMARY:Próba muzyczna Brighter Day
DESCRIPTION:Nie wymagamy doświadczenia ani wykształcenia muzycznego\, wystarczy\, że lubisz muzykę! \nNasz zespół spotyka się na próbach o 19:15 w Dolnym Kościele. Później śpiewamy na Mszy Świętej o 21:00. \nSerdecznie zapraszamy! \n 
URL:https://swanna.waw.pl/event/proba-muzyczna-brighter-day/2028-10-22/
END:VEVENT
BEGIN:VEVENT
DTSTART;TZID=UTC:20281029T191500
DTEND;TZID=UTC:20281029T220000
DTSTAMP:20260420T061320
CREATED:20251101T083248Z
LAST-MODIFIED:20260419T215641Z
UID:10001312-1856459700-1856469600@swanna.waw.pl
SUMMARY:Próba muzyczna Brighter Day
DESCRIPTION:Nie wymagamy doświadczenia ani wykształcenia muzycznego\, wystarczy\, że lubisz muzykę! \nNasz zespół spotyka się na próbach o 19:15 w Dolnym Kościele. Później śpiewamy na Mszy Świętej o 21:00. \nSerdecznie zapraszamy! \n 
URL:https://swanna.waw.pl/event/proba-muzyczna-brighter-day/2028-10-29/
END:VEVENT
BEGIN:VEVENT
DTSTART;TZID=UTC:20281105T191500
DTEND;TZID=UTC:20281105T220000
DTSTAMP:20260420T061320
CREATED:20251101T083248Z
LAST-MODIFIED:20260419T215641Z
UID:10001313-1857064500-1857074400@swanna.waw.pl
SUMMARY:Próba muzyczna Brighter Day
DESCRIPTION:Nie wymagamy doświadczenia ani wykształcenia muzycznego\, wystarczy\, że lubisz muzykę! \nNasz zespół spotyka się na próbach o 19:15 w Dolnym Kościele. Później śpiewamy na Mszy Świętej o 21:00. \nSerdecznie zapraszamy! \n 
URL:https://swanna.waw.pl/event/proba-muzyczna-brighter-day/2028-11-05/
END:VEVENT
BEGIN:VEVENT
DTSTART;TZID=UTC:20281112T191500
DTEND;TZID=UTC:20281112T220000
DTSTAMP:20260420T061320
CREATED:20251101T083248Z
LAST-MODIFIED:20260419T215641Z
UID:10001314-1857669300-1857679200@swanna.waw.pl
SUMMARY:Próba muzyczna Brighter Day
DESCRIPTION:Nie wymagamy doświadczenia ani wykształcenia muzycznego\, wystarczy\, że lubisz muzykę! \nNasz zespół spotyka się na próbach o 19:15 w Dolnym Kościele. Później śpiewamy na Mszy Świętej o 21:00. \nSerdecznie zapraszamy! \n 
URL:https://swanna.waw.pl/event/proba-muzyczna-brighter-day/2028-11-12/
END:VEVENT
BEGIN:VEVENT
DTSTART;TZID=UTC:20281119T191500
DTEND;TZID=UTC:20281119T220000
DTSTAMP:20260420T061320
CREATED:20251101T083248Z
LAST-MODIFIED:20260419T215641Z
UID:10001315-1858274100-1858284000@swanna.waw.pl
SUMMARY:Próba muzyczna Brighter Day
DESCRIPTION:Nie wymagamy doświadczenia ani wykształcenia muzycznego\, wystarczy\, że lubisz muzykę! \nNasz zespół spotyka się na próbach o 19:15 w Dolnym Kościele. Później śpiewamy na Mszy Świętej o 21:00. \nSerdecznie zapraszamy! \n 
URL:https://swanna.waw.pl/event/proba-muzyczna-brighter-day/2028-11-19/
END:VEVENT
BEGIN:VEVENT
DTSTART;TZID=UTC:20281126T191500
DTEND;TZID=UTC:20281126T220000
DTSTAMP:20260420T061320
CREATED:20251101T083248Z
LAST-MODIFIED:20260419T215641Z
UID:10001316-1858878900-1858888800@swanna.waw.pl
SUMMARY:Próba muzyczna Brighter Day
DESCRIPTION:Nie wymagamy doświadczenia ani wykształcenia muzycznego\, wystarczy\, że lubisz muzykę! \nNasz zespół spotyka się na próbach o 19:15 w Dolnym Kościele. Później śpiewamy na Mszy Świętej o 21:00. \nSerdecznie zapraszamy! \n 
URL:https://swanna.waw.pl/event/proba-muzyczna-brighter-day/2028-11-26/
END:VEVENT
BEGIN:VEVENT
DTSTART;TZID=UTC:20281203T191500
DTEND;TZID=UTC:20281203T220000
DTSTAMP:20260420T061320
CREATED:20251101T083248Z
LAST-MODIFIED:20260419T215641Z
UID:10001317-1859483700-1859493600@swanna.waw.pl
SUMMARY:Próba muzyczna Brighter Day
DESCRIPTION:Nie wymagamy doświadczenia ani wykształcenia muzycznego\, wystarczy\, że lubisz muzykę! \nNasz zespół spotyka się na próbach o 19:15 w Dolnym Kościele. Później śpiewamy na Mszy Świętej o 21:00. \nSerdecznie zapraszamy! \n 
URL:https://swanna.waw.pl/event/proba-muzyczna-brighter-day/2028-12-03/
END:VEVENT
BEGIN:VEVENT
DTSTART;TZID=UTC:20281210T191500
DTEND;TZID=UTC:20281210T220000
DTSTAMP:20260420T061320
CREATED:20251101T083248Z
LAST-MODIFIED:20260419T215641Z
UID:10001318-1860088500-1860098400@swanna.waw.pl
SUMMARY:Próba muzyczna Brighter Day
DESCRIPTION:Nie wymagamy doświadczenia ani wykształcenia muzycznego\, wystarczy\, że lubisz muzykę! \nNasz zespół spotyka się na próbach o 19:15 w Dolnym Kościele. Później śpiewamy na Mszy Świętej o 21:00. \nSerdecznie zapraszamy! \n 
URL:https://swanna.waw.pl/event/proba-muzyczna-brighter-day/2028-12-10/
END:VEVENT
BEGIN:VEVENT
DTSTART;TZID=UTC:20281217T191500
DTEND;TZID=UTC:20281217T220000
DTSTAMP:20260420T061320
CREATED:20251101T083248Z
LAST-MODIFIED:20260419T215641Z
UID:10001319-1860693300-1860703200@swanna.waw.pl
SUMMARY:Próba muzyczna Brighter Day
DESCRIPTION:Nie wymagamy doświadczenia ani wykształcenia muzycznego\, wystarczy\, że lubisz muzykę! \nNasz zespół spotyka się na próbach o 19:15 w Dolnym Kościele. Później śpiewamy na Mszy Świętej o 21:00. \nSerdecznie zapraszamy! \n 
URL:https://swanna.waw.pl/event/proba-muzyczna-brighter-day/2028-12-17/
END:VEVENT
BEGIN:VEVENT
DTSTART;TZID=UTC:20281224T191500
DTEND;TZID=UTC:20281224T220000
DTSTAMP:20260420T061320
CREATED:20251101T083248Z
LAST-MODIFIED:20260419T215641Z
UID:10001320-1861298100-1861308000@swanna.waw.pl
SUMMARY:Próba muzyczna Brighter Day
DESCRIPTION:Nie wymagamy doświadczenia ani wykształcenia muzycznego\, wystarczy\, że lubisz muzykę! \nNasz zespół spotyka się na próbach o 19:15 w Dolnym Kościele. Później śpiewamy na Mszy Świętej o 21:00. \nSerdecznie zapraszamy! \n 
URL:https://swanna.waw.pl/event/proba-muzyczna-brighter-day/2028-12-24/
END:VEVENT
BEGIN:VEVENT
DTSTART;TZID=UTC:20281231T191500
DTEND;TZID=UTC:20281231T220000
DTSTAMP:20260420T061320
CREATED:20251101T083248Z
LAST-MODIFIED:20260419T215641Z
UID:10001321-1861902900-1861912800@swanna.waw.pl
SUMMARY:Próba muzyczna Brighter Day
DESCRIPTION:Nie wymagamy doświadczenia ani wykształcenia muzycznego\, wystarczy\, że lubisz muzykę! \nNasz zespół spotyka się na próbach o 19:15 w Dolnym Kościele. Później śpiewamy na Mszy Świętej o 21:00. \nSerdecznie zapraszamy! \n 
URL:https://swanna.waw.pl/event/proba-muzyczna-brighter-day/2028-12-31/
END:VEVENT
BEGIN:VEVENT
DTSTART;TZID=UTC:20290107T191500
DTEND;TZID=UTC:20290107T220000
DTSTAMP:20260420T061320
CREATED:20251101T083248Z
LAST-MODIFIED:20260419T215641Z
UID:10001322-1862507700-1862517600@swanna.waw.pl
SUMMARY:Próba muzyczna Brighter Day
DESCRIPTION:Nie wymagamy doświadczenia ani wykształcenia muzycznego\, wystarczy\, że lubisz muzykę! \nNasz zespół spotyka się na próbach o 19:15 w Dolnym Kościele. Później śpiewamy na Mszy Świętej o 21:00. \nSerdecznie zapraszamy! \n 
URL:https://swanna.waw.pl/event/proba-muzyczna-brighter-day/2029-01-07/
END:VEVENT
BEGIN:VEVENT
DTSTART;TZID=UTC:20290114T191500
DTEND;TZID=UTC:20290114T220000
DTSTAMP:20260420T061320
CREATED:20251101T083248Z
LAST-MODIFIED:20260419T215641Z
UID:10001323-1863112500-1863122400@swanna.waw.pl
SUMMARY:Próba muzyczna Brighter Day
DESCRIPTION:Nie wymagamy doświadczenia ani wykształcenia muzycznego\, wystarczy\, że lubisz muzykę! \nNasz zespół spotyka się na próbach o 19:15 w Dolnym Kościele. Później śpiewamy na Mszy Świętej o 21:00. \nSerdecznie zapraszamy! \n 
URL:https://swanna.waw.pl/event/proba-muzyczna-brighter-day/2029-01-14/
END:VEVENT
END:VCALENDAR