BEGIN:VCALENDAR
VERSION:2.0
PRODID:-//Duszpasterstwo Akademickie Św. Anny - ECPv6.15.18//NONSGML v1.0//EN
CALSCALE:GREGORIAN
METHOD:PUBLISH
X-ORIGINAL-URL:https://swanna.waw.pl
X-WR-CALDESC:Wydarzenia dla Duszpasterstwo Akademickie Św. Anny
REFRESH-INTERVAL;VALUE=DURATION:PT1H
X-Robots-Tag:noindex
X-PUBLISHED-TTL:PT1H
BEGIN:VTIMEZONE
TZID:Europe/Warsaw
BEGIN:DAYLIGHT
TZOFFSETFROM:+0100
TZOFFSETTO:+0200
TZNAME:CEST
DTSTART:20250330T010000
END:DAYLIGHT
BEGIN:STANDARD
TZOFFSETFROM:+0200
TZOFFSETTO:+0100
TZNAME:CET
DTSTART:20251026T010000
END:STANDARD
BEGIN:DAYLIGHT
TZOFFSETFROM:+0100
TZOFFSETTO:+0200
TZNAME:CEST
DTSTART:20260329T010000
END:DAYLIGHT
BEGIN:STANDARD
TZOFFSETFROM:+0200
TZOFFSETTO:+0100
TZNAME:CET
DTSTART:20261025T010000
END:STANDARD
BEGIN:DAYLIGHT
TZOFFSETFROM:+0100
TZOFFSETTO:+0200
TZNAME:CEST
DTSTART:20270328T010000
END:DAYLIGHT
BEGIN:STANDARD
TZOFFSETFROM:+0200
TZOFFSETTO:+0100
TZNAME:CET
DTSTART:20271031T010000
END:STANDARD
END:VTIMEZONE
BEGIN:VTIMEZONE
TZID:UTC
BEGIN:STANDARD
TZOFFSETFROM:+0000
TZOFFSETTO:+0000
TZNAME:UTC
DTSTART:20250101T000000
END:STANDARD
END:VTIMEZONE
BEGIN:VEVENT
DTSTART;TZID=Europe/Warsaw:20260312T193000
DTEND;TZID=Europe/Warsaw:20260312T203000
DTSTAMP:20260420T011415
CREATED:20260312T132250Z
LAST-MODIFIED:20260312T132250Z
UID:10001570-1773343800-1773347400@swanna.waw.pl
SUMMARY:Open space
DESCRIPTION:19.30 \nDolny kościół \nZapraszamy:)
URL:https://swanna.waw.pl/event/open-space-14/
END:VEVENT
BEGIN:VEVENT
DTSTART;TZID=Europe/Warsaw:20260313T190000
DTEND;TZID=Europe/Warsaw:20260313T200000
DTSTAMP:20260420T011415
CREATED:20260227T102240Z
LAST-MODIFIED:20260227T102240Z
UID:10001553-1773428400-1773432000@swanna.waw.pl
SUMMARY:akademicka droga krzyżowa
DESCRIPTION:Rozpocznie się po Mszy Św. wieczornej. \nZapraszamy
URL:https://swanna.waw.pl/event/akademicka-droga-krzyzowa/2026-03-13/
END:VEVENT
BEGIN:VEVENT
DTSTART;TZID=UTC:20260313T193000
DTEND;TZID=UTC:20260313T210000
DTSTAMP:20260420T011415
CREATED:20260105T151302Z
LAST-MODIFIED:20260301T132103Z
UID:10001519-1773430200-1773435600@swanna.waw.pl
SUMMARY:MEDYCY
DESCRIPTION:13.03 \nPo Mszy Św. prowadzimy Akademicką Drogę Krzyżową w kościele.
URL:https://swanna.waw.pl/event/medycy-17/
END:VEVENT
BEGIN:VEVENT
DTSTART;TZID=UTC:20260315T191500
DTEND;TZID=UTC:20260315T220000
DTSTAMP:20260420T011415
CREATED:20251101T083248Z
LAST-MODIFIED:20260419T215641Z
UID:10001175-1773602100-1773612000@swanna.waw.pl
SUMMARY:Próba muzyczna Brighter Day
DESCRIPTION:Nie wymagamy doświadczenia ani wykształcenia muzycznego\, wystarczy\, że lubisz muzykę! \nNasz zespół spotyka się na próbach o 19:15 w Dolnym Kościele. Później śpiewamy na Mszy Świętej o 21:00. \nSerdecznie zapraszamy! \n 
URL:https://swanna.waw.pl/event/proba-muzyczna-brighter-day/2026-03-15/
END:VEVENT
BEGIN:VEVENT
DTSTART;TZID=Europe/Warsaw:20260317T191500
DTEND;TZID=Europe/Warsaw:20260317T220000
DTSTAMP:20260420T011415
CREATED:20260316T122556Z
LAST-MODIFIED:20260316T122556Z
UID:10001571-1773774900-1773784800@swanna.waw.pl
SUMMARY:Spotkanie Brighter Day
DESCRIPTION:Niedziela Palmowa Męki Pańskiej – co mówią nam najważniejsze teksty Nowego Testamentu? \nPo konferencji próba muzyczna naszego zespołu. \nZaczynamy o 19:15 w kawiarence. Zapraszamy!
URL:https://swanna.waw.pl/event/spotkanie-brighter-day-16/
END:VEVENT
BEGIN:VEVENT
DTSTART;TZID=Europe/Warsaw:20260320T190000
DTEND;TZID=Europe/Warsaw:20260320T200000
DTSTAMP:20260420T011415
CREATED:20260227T102240Z
LAST-MODIFIED:20260227T102240Z
UID:10001554-1774033200-1774036800@swanna.waw.pl
SUMMARY:akademicka droga krzyżowa
DESCRIPTION:Rozpocznie się po Mszy Św. wieczornej. \nZapraszamy
URL:https://swanna.waw.pl/event/akademicka-droga-krzyzowa/2026-03-20/
END:VEVENT
BEGIN:VEVENT
DTSTART;TZID=UTC:20260320T193000
DTEND;TZID=UTC:20260320T210000
DTSTAMP:20260420T011415
CREATED:20260105T151356Z
LAST-MODIFIED:20260320T113320Z
UID:10001520-1774035000-1774040400@swanna.waw.pl
SUMMARY:MEDYCY
DESCRIPTION:20.03 \ng. 19:30 \nUczestniczymy w MUZYCZNEJ DRODZE KRZYŻOWEJ 
URL:https://swanna.waw.pl/event/medycy-18/
END:VEVENT
BEGIN:VEVENT
DTSTART;TZID=Europe/Warsaw:20260322T100000
DTEND;TZID=Europe/Warsaw:20260325T210000
DTSTAMP:20260420T011415
CREATED:20260227T102831Z
LAST-MODIFIED:20260227T102831Z
UID:10001558-1774173600-1774472400@swanna.waw.pl
SUMMARY:rekolekcje akademickie vol. 2
DESCRIPTION:https://swanna.waw.pl/timeline/rekolekcje-akademickie-vol-2/
URL:https://swanna.waw.pl/event/rekolekcje-akademickie-vol-2/
END:VEVENT
BEGIN:VEVENT
DTSTART;TZID=UTC:20260322T191500
DTEND;TZID=UTC:20260322T220000
DTSTAMP:20260420T011416
CREATED:20251101T083248Z
LAST-MODIFIED:20260419T215641Z
UID:10001176-1774206900-1774216800@swanna.waw.pl
SUMMARY:Próba muzyczna Brighter Day
DESCRIPTION:Nie wymagamy doświadczenia ani wykształcenia muzycznego\, wystarczy\, że lubisz muzykę! \nNasz zespół spotyka się na próbach o 19:15 w Dolnym Kościele. Później śpiewamy na Mszy Świętej o 21:00. \nSerdecznie zapraszamy! \n 
URL:https://swanna.waw.pl/event/proba-muzyczna-brighter-day/2026-03-22/
END:VEVENT
BEGIN:VEVENT
DTSTART;TZID=Europe/Warsaw:20260327T190000
DTEND;TZID=Europe/Warsaw:20260327T200000
DTSTAMP:20260420T011416
CREATED:20260227T102240Z
LAST-MODIFIED:20260227T102240Z
UID:10001555-1774638000-1774641600@swanna.waw.pl
SUMMARY:akademicka droga krzyżowa
DESCRIPTION:Rozpocznie się po Mszy Św. wieczornej. \nZapraszamy
URL:https://swanna.waw.pl/event/akademicka-droga-krzyzowa/2026-03-27/
END:VEVENT
BEGIN:VEVENT
DTSTART;TZID=UTC:20260327T193000
DTEND;TZID=UTC:20260327T210000
DTSTAMP:20260420T011416
CREATED:20260105T151443Z
LAST-MODIFIED:20260105T151443Z
UID:10001521-1774639800-1774645200@swanna.waw.pl
SUMMARY:MEDYCY
DESCRIPTION:Wieczór skupienia przed Triduum Paschalnym \nbliższe informacje podamy niebawem
URL:https://swanna.waw.pl/event/medycy-19/
END:VEVENT
BEGIN:VEVENT
DTSTART;TZID=UTC:20260329T191500
DTEND;TZID=UTC:20260329T220000
DTSTAMP:20260420T011416
CREATED:20251101T083248Z
LAST-MODIFIED:20260419T215641Z
UID:10001177-1774811700-1774821600@swanna.waw.pl
SUMMARY:Próba muzyczna Brighter Day
DESCRIPTION:Nie wymagamy doświadczenia ani wykształcenia muzycznego\, wystarczy\, że lubisz muzykę! \nNasz zespół spotyka się na próbach o 19:15 w Dolnym Kościele. Później śpiewamy na Mszy Świętej o 21:00. \nSerdecznie zapraszamy! \n 
URL:https://swanna.waw.pl/event/proba-muzyczna-brighter-day/2026-03-29/
END:VEVENT
BEGIN:VEVENT
DTSTART;TZID=Europe/Warsaw:20260330T183000
DTEND;TZID=Europe/Warsaw:20260330T193000
DTSTAMP:20260420T011416
CREATED:20260227T104647Z
LAST-MODIFIED:20260227T104647Z
UID:10001559-1774895400-1774899000@swanna.waw.pl
SUMMARY:Rekolekcje akademickie vol. 3
DESCRIPTION:https://swanna.waw.pl/timeline/na-chwile-przed-rekolekcje-vol-3/
URL:https://swanna.waw.pl/event/rekolekcje-akademickie-vol-3/2026-03-30/
END:VEVENT
BEGIN:VEVENT
DTSTART;TZID=Europe/Warsaw:20260331T183000
DTEND;TZID=Europe/Warsaw:20260331T193000
DTSTAMP:20260420T011417
CREATED:20260227T104647Z
LAST-MODIFIED:20260227T104647Z
UID:10001560-1774981800-1774985400@swanna.waw.pl
SUMMARY:Rekolekcje akademickie vol. 3
DESCRIPTION:https://swanna.waw.pl/timeline/na-chwile-przed-rekolekcje-vol-3/
URL:https://swanna.waw.pl/event/rekolekcje-akademickie-vol-3/2026-03-31/
END:VEVENT
BEGIN:VEVENT
DTSTART;TZID=Europe/Warsaw:20260331T190000
DTEND;TZID=Europe/Warsaw:20260331T210000
DTSTAMP:20260420T011417
CREATED:20260329T194534Z
LAST-MODIFIED:20260329T194534Z
UID:10001572-1774983600-1774990800@swanna.waw.pl
SUMMARY:Spotkanie Brighter Day
DESCRIPTION:Droga krzyżowa Jezusa w Jerozolimie. Jak wyglądała kiedyś\, a jak dziś? \nZaczynamy o 19:00 w kawiarence. Zapraszamy!
URL:https://swanna.waw.pl/event/spotkanie-brighter-day-17/
END:VEVENT
BEGIN:VEVENT
DTSTART;TZID=Europe/Warsaw:20260401T183000
DTEND;TZID=Europe/Warsaw:20260401T193000
DTSTAMP:20260420T011417
CREATED:20260227T104647Z
LAST-MODIFIED:20260227T104647Z
UID:10001561-1775068200-1775071800@swanna.waw.pl
SUMMARY:Rekolekcje akademickie vol. 3
DESCRIPTION:https://swanna.waw.pl/timeline/na-chwile-przed-rekolekcje-vol-3/
URL:https://swanna.waw.pl/event/rekolekcje-akademickie-vol-3/2026-04-01/
END:VEVENT
BEGIN:VEVENT
DTSTART;TZID=Europe/Warsaw:20260408T183000
DTEND;TZID=Europe/Warsaw:20260408T210000
DTSTAMP:20260420T011417
CREATED:20260408T073437Z
LAST-MODIFIED:20260408T073928Z
UID:10001585-1775673000-1775682000@swanna.waw.pl
SUMMARY:Uwielbienie wielkanocne - Oaza Akademicka
DESCRIPTION:Serdecznie zapraszamy wszystkie osoby w wieku 18 – 26 lat na spotkanie Oazy Akademickiej 😉\nSpotykamy się zaraz po Mszy Świętej\, która odbywa się o godzinie 18:30.
URL:https://swanna.waw.pl/event/uwielbienie-wielkanocne/
END:VEVENT
BEGIN:VEVENT
DTSTART;TZID=Europe/Warsaw:20260410T193000
DTEND;TZID=Europe/Warsaw:20260410T210000
DTSTAMP:20260420T011417
CREATED:20260405T190642Z
LAST-MODIFIED:20260405T190642Z
UID:10001582-1775849400-1775854800@swanna.waw.pl
SUMMARY:Medycy spotkanie
DESCRIPTION:Konferencja
URL:https://swanna.waw.pl/event/medycy-spotkanie/
END:VEVENT
BEGIN:VEVENT
DTSTART;TZID=Europe/Warsaw:20260410T193000
DTEND;TZID=Europe/Warsaw:20260410T210000
DTSTAMP:20260420T011417
CREATED:20260409T170623Z
LAST-MODIFIED:20260409T170623Z
UID:10001589-1775849400-1775854800@swanna.waw.pl
SUMMARY:Spotkanie - Kyrios
DESCRIPTION:Spotkanie modlitewne w dolnym kościele.
URL:https://swanna.waw.pl/event/spotkanie-kyrios/
END:VEVENT
BEGIN:VEVENT
DTSTART;TZID=UTC:20260412T191500
DTEND;TZID=UTC:20260412T220000
DTSTAMP:20260420T011417
CREATED:20251101T083248Z
LAST-MODIFIED:20260419T215641Z
UID:10001179-1776021300-1776031200@swanna.waw.pl
SUMMARY:Próba muzyczna Brighter Day
DESCRIPTION:Nie wymagamy doświadczenia ani wykształcenia muzycznego\, wystarczy\, że lubisz muzykę! \nNasz zespół spotyka się na próbach o 19:15 w Dolnym Kościele. Później śpiewamy na Mszy Świętej o 21:00. \nSerdecznie zapraszamy! \n 
URL:https://swanna.waw.pl/event/proba-muzyczna-brighter-day/2026-04-12/
END:VEVENT
BEGIN:VEVENT
DTSTART;TZID=Europe/Warsaw:20260413T191500
DTEND;TZID=Europe/Warsaw:20260413T210000
DTSTAMP:20260420T011417
CREATED:20260410T144303Z
LAST-MODIFIED:20260410T144303Z
UID:10001590-1776107700-1776114000@swanna.waw.pl
SUMMARY:Konferencja ks. Łukasza - Oaza Postakademicka
DESCRIPTION:W ramach spotkania ogólnego zapraszamy na kolejną konferencje Ks Łukasza z cyklu \,\,Teologia śmierci”.\nPo spotkaniu ogólnym odbędą się spotkania grup formacyjnych.
URL:https://swanna.waw.pl/event/konferencja-ks-lukasza-oaza-postakademicka/
END:VEVENT
BEGIN:VEVENT
DTSTART;TZID=Europe/Warsaw:20260413T193000
DTEND;TZID=Europe/Warsaw:20260413T220000
DTSTAMP:20260420T011417
CREATED:20260412T202141Z
LAST-MODIFIED:20260412T202141Z
UID:10001597-1776108600-1776117600@swanna.waw.pl
SUMMARY:Spotkanie Oblubienicy - uwielbienie
DESCRIPTION:Otwarte uwielbienie wspólnoty Oblubienica odbywające się w dolnym kościele.
URL:https://swanna.waw.pl/event/spotkanie-oblubienicy-uwielbienie/
END:VEVENT
BEGIN:VEVENT
DTSTART;TZID=Europe/Warsaw:20260414T191500
DTEND;TZID=Europe/Warsaw:20260414T220000
DTSTAMP:20260420T011417
CREATED:20260412T122545Z
LAST-MODIFIED:20260412T122545Z
UID:10001594-1776194100-1776204000@swanna.waw.pl
SUMMARY:Spotkanie Brighter Day
DESCRIPTION:Miłosierdzie Boże. Czym jest i skąd się wzięło?  \nBiblijne pochodzenie i ewangeliczna realizacja. \nZaczynamy o 19:15 w kawiarence. Zapraszamy!
URL:https://swanna.waw.pl/event/spotkanie-brighter-day-18/
END:VEVENT
BEGIN:VEVENT
DTSTART;TZID=Europe/Warsaw:20260415T183000
DTEND;TZID=Europe/Warsaw:20260415T210000
DTSTAMP:20260420T011417
CREATED:20260408T073658Z
LAST-MODIFIED:20260408T073906Z
UID:10001586-1776277800-1776286800@swanna.waw.pl
SUMMARY:Konferencja ks. Łukasza - Oaza Akademicka
DESCRIPTION:Serdecznie zapraszamy wszystkie osoby w wieku 18 – 26 lat na spotkanie Oazy Akademickiej 😉\nSpotykamy się zaraz po Mszy Świętej\, która odbywa się o godzinie 18:30.
URL:https://swanna.waw.pl/event/konferencja-ks-lukasza/
END:VEVENT
BEGIN:VEVENT
DTSTART;TZID=Europe/Warsaw:20260417T193000
DTEND;TZID=Europe/Warsaw:20260417T210000
DTSTAMP:20260420T011417
CREATED:20260405T190848Z
LAST-MODIFIED:20260405T190848Z
UID:10001583-1776454200-1776459600@swanna.waw.pl
SUMMARY:Medycy spotkanie
DESCRIPTION:Spotkanie z gościem
URL:https://swanna.waw.pl/event/medycy-spotkanie-2/
END:VEVENT
BEGIN:VEVENT
DTSTART;TZID=UTC:20260419T191500
DTEND;TZID=UTC:20260419T220000
DTSTAMP:20260420T011417
CREATED:20251101T083248Z
LAST-MODIFIED:20260419T215641Z
UID:10001180-1776626100-1776636000@swanna.waw.pl
SUMMARY:Próba muzyczna Brighter Day
DESCRIPTION:Nie wymagamy doświadczenia ani wykształcenia muzycznego\, wystarczy\, że lubisz muzykę! \nNasz zespół spotyka się na próbach o 19:15 w Dolnym Kościele. Później śpiewamy na Mszy Świętej o 21:00. \nSerdecznie zapraszamy! \n 
URL:https://swanna.waw.pl/event/proba-muzyczna-brighter-day/2026-04-19/
END:VEVENT
BEGIN:VEVENT
DTSTART;TZID=Europe/Warsaw:20260420T191500
DTEND;TZID=Europe/Warsaw:20260420T210000
DTSTAMP:20260420T011417
CREATED:20260410T144455Z
LAST-MODIFIED:20260410T144455Z
UID:10001591-1776712500-1776718800@swanna.waw.pl
SUMMARY:Spotkanie integracyjne - Oaza Postakademicka
DESCRIPTION:W ramach spotkania ogólnego zapraszamy na wspólną integrację.\nPo spotkaniu ogólnym odbędą się spotkania grup formacyjnych.
URL:https://swanna.waw.pl/event/spotkanie-integracyjne-oaza-postakademicka/
END:VEVENT
BEGIN:VEVENT
DTSTART;TZID=Europe/Warsaw:20260420T193000
DTEND;TZID=Europe/Warsaw:20260420T220000
DTSTAMP:20260420T011417
CREATED:20260412T202442Z
LAST-MODIFIED:20260412T202442Z
UID:10001598-1776713400-1776722400@swanna.waw.pl
SUMMARY:Spotkanie Oblubienicy - konferencja
DESCRIPTION:Spotkanie wspólnoty Oblubienica w dolnym kościele. Konferencja będzie dotyczyła tematyki związanej z Liturgią Eucharystyczną.
URL:https://swanna.waw.pl/event/spotkanie-oblubienicy-konferencja/
END:VEVENT
BEGIN:VEVENT
DTSTART;TZID=Europe/Warsaw:20260421T191500
DTEND;TZID=Europe/Warsaw:20260421T220000
DTSTAMP:20260420T011417
CREATED:20260419T215959Z
LAST-MODIFIED:20260419T215959Z
UID:10001601-1776798900-1776808800@swanna.waw.pl
SUMMARY:Spotkanie Brighter Day
DESCRIPTION:Znaki i symbole liturgii okresu wielkanocnego. \n1. Zaczynamy o 19:15 od adoracji w kościele  \n2. Konferencja w kościele  \n3. Dzielenie w grupach \nSerdecznie zapraszamy!
URL:https://swanna.waw.pl/event/spotkanie-brighter-day-19/
END:VEVENT
BEGIN:VEVENT
DTSTART;VALUE=DATE:20260422
DTEND;VALUE=DATE:20260427
DTSTAMP:20260420T011417
CREATED:20260410T144616Z
LAST-MODIFIED:20260410T144616Z
UID:10001592-1776816000-1777247999@swanna.waw.pl
SUMMARY:Oaza Modlitwy Oazy Postakademickiej
DESCRIPTION:
URL:https://swanna.waw.pl/event/oaza-modlitwy-oazy-postakademickiej/
END:VEVENT
END:VCALENDAR