BEGIN:VCALENDAR
VERSION:2.0
PRODID:-//Duszpasterstwo Akademickie Św. Anny - ECPv6.15.18//NONSGML v1.0//EN
CALSCALE:GREGORIAN
METHOD:PUBLISH
X-WR-CALNAME:Duszpasterstwo Akademickie Św. Anny
X-ORIGINAL-URL:https://swanna.waw.pl
X-WR-CALDESC:Wydarzenia dla Duszpasterstwo Akademickie Św. Anny
REFRESH-INTERVAL;VALUE=DURATION:PT1H
X-Robots-Tag:noindex
X-PUBLISHED-TTL:PT1H
BEGIN:VTIMEZONE
TZID:UTC
BEGIN:STANDARD
TZOFFSETFROM:+0000
TZOFFSETTO:+0000
TZNAME:UTC
DTSTART:20250101T000000
END:STANDARD
END:VTIMEZONE
BEGIN:VTIMEZONE
TZID:Europe/Warsaw
BEGIN:DAYLIGHT
TZOFFSETFROM:+0100
TZOFFSETTO:+0200
TZNAME:CEST
DTSTART:20250330T010000
END:DAYLIGHT
BEGIN:STANDARD
TZOFFSETFROM:+0200
TZOFFSETTO:+0100
TZNAME:CET
DTSTART:20251026T010000
END:STANDARD
BEGIN:DAYLIGHT
TZOFFSETFROM:+0100
TZOFFSETTO:+0200
TZNAME:CEST
DTSTART:20260329T010000
END:DAYLIGHT
BEGIN:STANDARD
TZOFFSETFROM:+0200
TZOFFSETTO:+0100
TZNAME:CET
DTSTART:20261025T010000
END:STANDARD
BEGIN:DAYLIGHT
TZOFFSETFROM:+0100
TZOFFSETTO:+0200
TZNAME:CEST
DTSTART:20270328T010000
END:DAYLIGHT
BEGIN:STANDARD
TZOFFSETFROM:+0200
TZOFFSETTO:+0100
TZNAME:CET
DTSTART:20271031T010000
END:STANDARD
END:VTIMEZONE
BEGIN:VEVENT
DTSTART;TZID=UTC:20260201T191500
DTEND;TZID=UTC:20260201T220000
DTSTAMP:20260421T180510
CREATED:20251101T083248Z
LAST-MODIFIED:20260419T215641Z
UID:10001169-1769973300-1769983200@swanna.waw.pl
SUMMARY:Próba muzyczna Brighter Day
DESCRIPTION:Nie wymagamy doświadczenia ani wykształcenia muzycznego\, wystarczy\, że lubisz muzykę! \nNasz zespół spotyka się na próbach o 19:15 w Dolnym Kościele. Później śpiewamy na Mszy Świętej o 21:00. \nSerdecznie zapraszamy! \n 
URL:https://swanna.waw.pl/event/proba-muzyczna-brighter-day/2026-02-01/
END:VEVENT
BEGIN:VEVENT
DTSTART;TZID=UTC:20260202T193000
DTEND;TZID=UTC:20260202T210000
DTSTAMP:20260421T180511
CREATED:20251024T072028Z
LAST-MODIFIED:20251024T072346Z
UID:10000906-1770060600-1770066000@swanna.waw.pl
SUMMARY:Spotkanie Oblubienicy
DESCRIPTION:Dolny kościół
URL:https://swanna.waw.pl/event/spotkanie-oblubienicy-2/2026-02-02/
END:VEVENT
BEGIN:VEVENT
DTSTART;TZID=UTC:20260203T191500
DTEND;TZID=UTC:20260203T220000
DTSTAMP:20260421T180511
CREATED:20260203T111329Z
LAST-MODIFIED:20260203T111329Z
UID:10001536-1770146100-1770156000@swanna.waw.pl
SUMMARY:Spotkanie Brighter Day
DESCRIPTION:Wolna wola czy plan Boży? Co decyduje o naszym życiu? Co to znaczy\, że Bóg ma dla nas plan? \nSpotykamy się o 19:15 w kościelnej kawiarence. Zapraszamy! 🙂
URL:https://swanna.waw.pl/event/spotkanie-brighter-day-11/
END:VEVENT
BEGIN:VEVENT
DTSTART;TZID=UTC:20260205T193000
DTEND;TZID=UTC:20260205T210000
DTSTAMP:20260421T180511
CREATED:20260125T103252Z
LAST-MODIFIED:20260125T103252Z
UID:10001533-1770319800-1770325200@swanna.waw.pl
SUMMARY:Open space
DESCRIPTION:5.02 \nBlok tematyczny: \nPokaż nam Ojca – teologia i duchowość chrześcijańska \nZaprasza  ks. Radek Wołkowycki \n19.30 dolny kościół
URL:https://swanna.waw.pl/event/open-space-12/
END:VEVENT
BEGIN:VEVENT
DTSTART;TZID=UTC:20260206T183000
DTEND;TZID=UTC:20260206T210000
DTSTAMP:20260421T180511
CREATED:20260105T150237Z
LAST-MODIFIED:20260105T150237Z
UID:10001514-1770402600-1770411600@swanna.waw.pl
SUMMARY:MEDYCY
DESCRIPTION:6.02 – pierwszy piątek miesiąca \ng. 18:30 – Msza Święta\npo Mszy Św. uczestniczymy w konferencji duszpasterskiej w ramach wydarzenia „Wieczór pierwszopiątkowy” w kościele.
URL:https://swanna.waw.pl/event/medycy-12/
END:VEVENT
BEGIN:VEVENT
DTSTART;TZID=UTC:20260206T210000
DTEND;TZID=UTC:20260206T230000
DTSTAMP:20260421T180511
CREATED:20260104T192220Z
LAST-MODIFIED:20260104T192220Z
UID:10001506-1770411600-1770418800@swanna.waw.pl
SUMMARY:sekcja sportowa
DESCRIPTION:Zapraszamy wszystkich studentów do Sekcji Sportowej DA św. Anna. \nTrening odbywa się Szkole Mistrzostwa Sportowego \nZapraszamy od godz. 21:00
URL:https://swanna.waw.pl/event/sekcja-sportowa-2/2026-02-06/
END:VEVENT
BEGIN:VEVENT
DTSTART;TZID=UTC:20260208T191500
DTEND;TZID=UTC:20260208T220000
DTSTAMP:20260421T180511
CREATED:20251101T083248Z
LAST-MODIFIED:20260419T215641Z
UID:10001170-1770578100-1770588000@swanna.waw.pl
SUMMARY:Próba muzyczna Brighter Day
DESCRIPTION:Nie wymagamy doświadczenia ani wykształcenia muzycznego\, wystarczy\, że lubisz muzykę! \nNasz zespół spotyka się na próbach o 19:15 w Dolnym Kościele. Później śpiewamy na Mszy Świętej o 21:00. \nSerdecznie zapraszamy! \n 
URL:https://swanna.waw.pl/event/proba-muzyczna-brighter-day/2026-02-08/
END:VEVENT
BEGIN:VEVENT
DTSTART;TZID=UTC:20260209T193000
DTEND;TZID=UTC:20260209T210000
DTSTAMP:20260421T180511
CREATED:20251024T072028Z
LAST-MODIFIED:20251024T072346Z
UID:10000907-1770665400-1770670800@swanna.waw.pl
SUMMARY:Spotkanie Oblubienicy
DESCRIPTION:Dolny kościół
URL:https://swanna.waw.pl/event/spotkanie-oblubienicy-2/2026-02-09/
END:VEVENT
BEGIN:VEVENT
DTSTART;TZID=UTC:20260210T191500
DTEND;TZID=UTC:20260210T220000
DTSTAMP:20260421T180511
CREATED:20260209T105159Z
LAST-MODIFIED:20260209T105159Z
UID:10001543-1770750900-1770760800@swanna.waw.pl
SUMMARY:Spotkanie Brighter Day
DESCRIPTION:Łaska czy uczynki: dzięki czemu jesteśmy zbawieni? I co z tymi\, którzy nie wierzą\, ale czynią dobrze? \nSpotykamy się o 19:15 w kościelnej kawiarence. Zapraszamy!
URL:https://swanna.waw.pl/event/spotkanie-brighter-day-12/
END:VEVENT
BEGIN:VEVENT
DTSTART;TZID=UTC:20260212T193000
DTEND;TZID=UTC:20260212T200000
DTSTAMP:20260421T180511
CREATED:20260205T180319Z
LAST-MODIFIED:20260205T180319Z
UID:10001539-1770924600-1770926400@swanna.waw.pl
SUMMARY:!OPEN SPACE-odwołane!!!
DESCRIPTION:12 lutego nie ma spotkania OPEN SPACE
URL:https://swanna.waw.pl/event/open-space-odwolane/
END:VEVENT
BEGIN:VEVENT
DTSTART;TZID=UTC:20260213T190000
DTEND;TZID=UTC:20260213T210000
DTSTAMP:20260421T180511
CREATED:20260105T150446Z
LAST-MODIFIED:20260105T150446Z
UID:10001515-1771009200-1771016400@swanna.waw.pl
SUMMARY:MEDYCY
DESCRIPTION:13.02 \ng. 19:30 \nspotkanie: integracja (niebawem podamy szczegóły)
URL:https://swanna.waw.pl/event/medycy-13/
END:VEVENT
BEGIN:VEVENT
DTSTART;TZID=UTC:20260213T193000
DTEND;TZID=UTC:20260213T210000
DTSTAMP:20260421T180511
CREATED:20260205T180705Z
LAST-MODIFIED:20260205T180705Z
UID:10001541-1771011000-1771016400@swanna.waw.pl
SUMMARY:FIDES ET RATIO
DESCRIPTION:Spotkanie w ramach konwersatorium Fides et Ratio\nPo Mszy Św. wieczornej (o godz. 19:15) zapraszamy do krużganków\, skąd pójdziemy na miejsce spotkania. \nKonwersatorium dla studentów od 18 do 26 r. życia.
URL:https://swanna.waw.pl/event/fides-et-ratio-6/
END:VEVENT
BEGIN:VEVENT
DTSTART;TZID=UTC:20260213T210000
DTEND;TZID=UTC:20260213T230000
DTSTAMP:20260421T180511
CREATED:20260104T192220Z
LAST-MODIFIED:20260104T192220Z
UID:10001507-1771016400-1771023600@swanna.waw.pl
SUMMARY:sekcja sportowa
DESCRIPTION:Zapraszamy wszystkich studentów do Sekcji Sportowej DA św. Anna. \nTrening odbywa się Szkole Mistrzostwa Sportowego \nZapraszamy od godz. 21:00
URL:https://swanna.waw.pl/event/sekcja-sportowa-2/2026-02-13/
END:VEVENT
BEGIN:VEVENT
DTSTART;TZID=UTC:20260215T191500
DTEND;TZID=UTC:20260215T220000
DTSTAMP:20260421T180511
CREATED:20251101T083248Z
LAST-MODIFIED:20260419T215641Z
UID:10001171-1771182900-1771192800@swanna.waw.pl
SUMMARY:Próba muzyczna Brighter Day
DESCRIPTION:Nie wymagamy doświadczenia ani wykształcenia muzycznego\, wystarczy\, że lubisz muzykę! \nNasz zespół spotyka się na próbach o 19:15 w Dolnym Kościele. Później śpiewamy na Mszy Świętej o 21:00. \nSerdecznie zapraszamy! \n 
URL:https://swanna.waw.pl/event/proba-muzyczna-brighter-day/2026-02-15/
END:VEVENT
BEGIN:VEVENT
DTSTART;TZID=UTC:20260216T193000
DTEND;TZID=UTC:20260216T200000
DTSTAMP:20260421T180511
CREATED:20260216T104120Z
LAST-MODIFIED:20260216T104120Z
UID:10001544-1771270200-1771272000@swanna.waw.pl
SUMMARY:25/35
DESCRIPTION:spotkanie nt. powołania. Prowadzi s. Bolesna. \n19:30 w kawiarni. \nZapraszamy.
URL:https://swanna.waw.pl/event/25-35-3/
END:VEVENT
BEGIN:VEVENT
DTSTART;TZID=UTC:20260216T193000
DTEND;TZID=UTC:20260216T210000
DTSTAMP:20260421T180511
CREATED:20251024T072028Z
LAST-MODIFIED:20251024T072346Z
UID:10000908-1771270200-1771275600@swanna.waw.pl
SUMMARY:Spotkanie Oblubienicy
DESCRIPTION:Dolny kościół
URL:https://swanna.waw.pl/event/spotkanie-oblubienicy-2/2026-02-16/
END:VEVENT
BEGIN:VEVENT
DTSTART;TZID=UTC:20260217T191500
DTEND;TZID=UTC:20260217T220000
DTSTAMP:20260421T180511
CREATED:20260202T162048Z
LAST-MODIFIED:20260203T111053Z
UID:10001535-1771355700-1771365600@swanna.waw.pl
SUMMARY:Spotkanie Brighter Day
DESCRIPTION:Od chorału gregoriańskiego do gitary. Jak zmieniała się muzyka w liturgii na przestrzeni wieków? Co wolno śpiewać i grać\, a czego nie? \nZapraszamy Was serdecznie na spotkanie z cyklu „O liturgii świadomie”. \nZaczynamy o 19:15 w kawiarence. Do zobaczenia! 🙂
URL:https://swanna.waw.pl/event/spotkanie-brighter-day-10/
END:VEVENT
BEGIN:VEVENT
DTSTART;TZID=UTC:20260218T183000
DTEND;TZID=UTC:20260218T203000
DTSTAMP:20260421T180511
CREATED:20260205T140611Z
LAST-MODIFIED:20260205T140611Z
UID:10001537-1771439400-1771446600@swanna.waw.pl
SUMMARY:Oaza Akademicka -adoracja w ciszy
DESCRIPTION:
URL:https://swanna.waw.pl/event/oaza-akademicka-adoracja-w-ciszy/
END:VEVENT
BEGIN:VEVENT
DTSTART;TZID=UTC:20260219T193000
DTEND;TZID=UTC:20260219T210000
DTSTAMP:20260421T180511
CREATED:20260205T180437Z
LAST-MODIFIED:20260205T180437Z
UID:10001540-1771529400-1771534800@swanna.waw.pl
SUMMARY:OPEN SPACE
DESCRIPTION:Nic co ludzkie nie jest mi obce – antropologia chrześcijańska \nProwadzi ks. Mateusz Milczarek \nSpotkanie w dolnym kościele o godz. 19:30
URL:https://swanna.waw.pl/event/open-space-13/
END:VEVENT
BEGIN:VEVENT
DTSTART;TZID=UTC:20260220T193000
DTEND;TZID=UTC:20260220T210000
DTSTAMP:20260421T180511
CREATED:20260105T150654Z
LAST-MODIFIED:20260105T150654Z
UID:10001516-1771615800-1771621200@swanna.waw.pl
SUMMARY:MEDYCY
DESCRIPTION:20.02 \ng. 19:30\nadoracja Najświętszego Sakramentu w apsydzie\n(spotykamy się o 19:30 w zakrystii kościoła)
URL:https://swanna.waw.pl/event/medycy-14/
END:VEVENT
BEGIN:VEVENT
DTSTART;TZID=UTC:20260220T193000
DTEND;TZID=UTC:20260220T210000
DTSTAMP:20260421T180511
CREATED:20260205T180733Z
LAST-MODIFIED:20260205T180733Z
UID:10001542-1771615800-1771621200@swanna.waw.pl
SUMMARY:FIDES ET RATIO
DESCRIPTION:Spotkanie w ramach konwersatorium Fides et Ratio\nPo Mszy Św. wieczornej (o godz. 19:15) zapraszamy do krużganków\, skąd pójdziemy na miejsce spotkania. \nKonwersatorium dla studentów od 18 do 26 r. życia.
URL:https://swanna.waw.pl/event/fides-et-ratio-7/
END:VEVENT
BEGIN:VEVENT
DTSTART;TZID=UTC:20260220T210000
DTEND;TZID=UTC:20260220T230000
DTSTAMP:20260421T180511
CREATED:20260104T192220Z
LAST-MODIFIED:20260104T192220Z
UID:10001508-1771621200-1771628400@swanna.waw.pl
SUMMARY:sekcja sportowa
DESCRIPTION:Zapraszamy wszystkich studentów do Sekcji Sportowej DA św. Anna. \nTrening odbywa się Szkole Mistrzostwa Sportowego \nZapraszamy od godz. 21:00
URL:https://swanna.waw.pl/event/sekcja-sportowa-2/2026-02-20/
END:VEVENT
BEGIN:VEVENT
DTSTART;TZID=UTC:20260222T191500
DTEND;TZID=UTC:20260222T220000
DTSTAMP:20260421T180511
CREATED:20251101T083248Z
LAST-MODIFIED:20260419T215641Z
UID:10001172-1771787700-1771797600@swanna.waw.pl
SUMMARY:Próba muzyczna Brighter Day
DESCRIPTION:Nie wymagamy doświadczenia ani wykształcenia muzycznego\, wystarczy\, że lubisz muzykę! \nNasz zespół spotyka się na próbach o 19:15 w Dolnym Kościele. Później śpiewamy na Mszy Świętej o 21:00. \nSerdecznie zapraszamy! \n 
URL:https://swanna.waw.pl/event/proba-muzyczna-brighter-day/2026-02-22/
END:VEVENT
BEGIN:VEVENT
DTSTART;TZID=UTC:20260223T193000
DTEND;TZID=UTC:20260223T210000
DTSTAMP:20260421T180511
CREATED:20251024T072028Z
LAST-MODIFIED:20251024T072346Z
UID:10000909-1771875000-1771880400@swanna.waw.pl
SUMMARY:Spotkanie Oblubienicy
DESCRIPTION:Dolny kościół
URL:https://swanna.waw.pl/event/spotkanie-oblubienicy-2/2026-02-23/
END:VEVENT
BEGIN:VEVENT
DTSTART;TZID=Europe/Warsaw:20260224T191500
DTEND;TZID=Europe/Warsaw:20260224T220000
DTSTAMP:20260421T180511
CREATED:20260223T111131Z
LAST-MODIFIED:20260223T111131Z
UID:10001545-1771960500-1771970400@swanna.waw.pl
SUMMARY:Spotkanie Brighter Day
DESCRIPTION:Wielki Post. Czym jest i czym nie jest czas „pokuty i nawrócenia”?  \nModlitwa\, Post i jałmużna: Jak czynić\, by doświadczyć? \nZaczynamy o 19:15 w kawiarence. Do zobaczenia!
URL:https://swanna.waw.pl/event/spotkanie-brighter-day-13/
END:VEVENT
BEGIN:VEVENT
DTSTART;TZID=UTC:20260225T183000
DTEND;TZID=UTC:20260225T203000
DTSTAMP:20260421T180511
CREATED:20260205T140843Z
LAST-MODIFIED:20260205T140843Z
UID:10001538-1772044200-1772051400@swanna.waw.pl
SUMMARY:Oaza Akademicka - Spotkanie o powołaniu z gościem\, para małżeńska
DESCRIPTION:
URL:https://swanna.waw.pl/event/oaza-akademicka-spotkanie-o-powolaniu-z-gosciem-para-malzenska/
END:VEVENT
BEGIN:VEVENT
DTSTART;TZID=Europe/Warsaw:20260227T190000
DTEND;TZID=Europe/Warsaw:20260227T200000
DTSTAMP:20260421T180511
CREATED:20260227T102240Z
LAST-MODIFIED:20260227T102240Z
UID:10001551-1772218800-1772222400@swanna.waw.pl
SUMMARY:akademicka droga krzyżowa
DESCRIPTION:Rozpocznie się po Mszy Św. wieczornej. \nZapraszamy
URL:https://swanna.waw.pl/event/akademicka-droga-krzyzowa/2026-02-27/
END:VEVENT
BEGIN:VEVENT
DTSTART;TZID=UTC:20260227T200000
DTEND;TZID=UTC:20260227T210000
DTSTAMP:20260421T180511
CREATED:20260105T150840Z
LAST-MODIFIED:20260227T102409Z
UID:10001517-1772222400-1772226000@swanna.waw.pl
SUMMARY:MEDYCY
DESCRIPTION:27.02 \ng. 19:30 \nspotkanie z gościem nt. pracy w hospicjum dziecięcym
URL:https://swanna.waw.pl/event/medycy-15/
END:VEVENT
BEGIN:VEVENT
DTSTART;TZID=UTC:20260227T210000
DTEND;TZID=UTC:20260227T230000
DTSTAMP:20260421T180511
CREATED:20260104T192220Z
LAST-MODIFIED:20260104T192220Z
UID:10001509-1772226000-1772233200@swanna.waw.pl
SUMMARY:sekcja sportowa
DESCRIPTION:Zapraszamy wszystkich studentów do Sekcji Sportowej DA św. Anna. \nTrening odbywa się Szkole Mistrzostwa Sportowego \nZapraszamy od godz. 21:00
URL:https://swanna.waw.pl/event/sekcja-sportowa-2/2026-02-27/
END:VEVENT
BEGIN:VEVENT
DTSTART;TZID=UTC:20260301T191500
DTEND;TZID=UTC:20260301T220000
DTSTAMP:20260421T180511
CREATED:20251101T083248Z
LAST-MODIFIED:20260419T215641Z
UID:10001173-1772392500-1772402400@swanna.waw.pl
SUMMARY:Próba muzyczna Brighter Day
DESCRIPTION:Nie wymagamy doświadczenia ani wykształcenia muzycznego\, wystarczy\, że lubisz muzykę! \nNasz zespół spotyka się na próbach o 19:15 w Dolnym Kościele. Później śpiewamy na Mszy Świętej o 21:00. \nSerdecznie zapraszamy! \n 
URL:https://swanna.waw.pl/event/proba-muzyczna-brighter-day/2026-03-01/
END:VEVENT
END:VCALENDAR