BEGIN:VCALENDAR
VERSION:2.0
PRODID:-//Duszpasterstwo Akademickie Św. Anny - ECPv6.15.18//NONSGML v1.0//EN
CALSCALE:GREGORIAN
METHOD:PUBLISH
X-WR-CALNAME:Duszpasterstwo Akademickie Św. Anny
X-ORIGINAL-URL:https://swanna.waw.pl
X-WR-CALDESC:Wydarzenia dla Duszpasterstwo Akademickie Św. Anny
REFRESH-INTERVAL;VALUE=DURATION:PT1H
X-Robots-Tag:noindex
X-PUBLISHED-TTL:PT1H
BEGIN:VTIMEZONE
TZID:UTC
BEGIN:STANDARD
TZOFFSETFROM:+0000
TZOFFSETTO:+0000
TZNAME:UTC
DTSTART:20240101T000000
END:STANDARD
END:VTIMEZONE
BEGIN:VEVENT
DTSTART;VALUE=DATE:20251205
DTEND;VALUE=DATE:20251208
DTSTAMP:20260421T201003
CREATED:20251018T015117Z
LAST-MODIFIED:20251018T015117Z
UID:10000619-1764892800-1765151999@swanna.waw.pl
SUMMARY:Oblu rekolekcje adwentowe
DESCRIPTION:
URL:https://swanna.waw.pl/event/oblu-rekolekcje-adwentowe/
END:VEVENT
BEGIN:VEVENT
DTSTART;TZID=UTC:20251207T191500
DTEND;TZID=UTC:20251207T220000
DTSTAMP:20260421T201003
CREATED:20251101T083248Z
LAST-MODIFIED:20260419T215641Z
UID:10001161-1765134900-1765144800@swanna.waw.pl
SUMMARY:Próba muzyczna Brighter Day
DESCRIPTION:Nie wymagamy doświadczenia ani wykształcenia muzycznego\, wystarczy\, że lubisz muzykę! \nNasz zespół spotyka się na próbach o 19:15 w Dolnym Kościele. Później śpiewamy na Mszy Świętej o 21:00. \nSerdecznie zapraszamy! \n 
URL:https://swanna.waw.pl/event/proba-muzyczna-brighter-day/2025-12-07/
END:VEVENT
BEGIN:VEVENT
DTSTART;TZID=UTC:20251208T193000
DTEND;TZID=UTC:20251208T210000
DTSTAMP:20260421T201003
CREATED:20251024T072028Z
LAST-MODIFIED:20251024T072346Z
UID:10000900-1765222200-1765227600@swanna.waw.pl
SUMMARY:Spotkanie Oblubienicy
DESCRIPTION:Dolny kościół
URL:https://swanna.waw.pl/event/spotkanie-oblubienicy-2/2025-12-08/
END:VEVENT
BEGIN:VEVENT
DTSTART;TZID=UTC:20251209T191500
DTEND;TZID=UTC:20251209T220000
DTSTAMP:20260421T201003
CREATED:20251112T201253Z
LAST-MODIFIED:20251124T202159Z
UID:10001423-1765307700-1765317600@swanna.waw.pl
SUMMARY:Spotkanie Brighter Day
DESCRIPTION:Co wiemy o powstaniu wszechświata i skąd? \nZastanowimy się nad relacjami nauki i wiary. \nPrzed nami krótkie i przystępne omówienie zagadek współczesnej kosmologii. XX wiek dostarczył narzędzi umożliwiających naukową analizę problemu początków świata\, a sam termin Wielkiego Wybuchu przeszedł do życia codziennego. Wiele zagadek nie zostało jednak wyjaśnionych. \nSpotykamy się o 19:15 w kościelnej kawiarence. Serdecznie zapraszamy!
URL:https://swanna.waw.pl/event/spotkanie-brighter-day-4/
END:VEVENT
BEGIN:VEVENT
DTSTART;TZID=UTC:20251210T183000
DTEND;TZID=UTC:20251210T183000
DTSTAMP:20260421T201003
CREATED:20251119T131831Z
LAST-MODIFIED:20251119T131831Z
UID:10001432-1765391400-1765391400@swanna.waw.pl
SUMMARY:Oaza Akademicka 18-26 lat "Spotkanie Maryjne"
DESCRIPTION:Serdecznie zapraszamy na spotkanie maryjne naszej wspólnoty\, które w grudniu nabiera szczególnego znaczenia.Chcemy w tym czasie zawierzyć naszą wspólnotę Maryi\, prosząc Ją o opiekę\, prowadzenie i umocnienie w codziennym życiu. \nWspólnie pomodlimy się różańcem\, powierzając Jej nasze intencje\, troski i wdzięczność.
URL:https://swanna.waw.pl/event/oaza-akademicka-18-26-lat-spotkanie-maryjne/
END:VEVENT
BEGIN:VEVENT
DTSTART;TZID=UTC:20251211T193000
DTEND;TZID=UTC:20251211T210000
DTSTAMP:20260421T201003
CREATED:20251024T062410Z
LAST-MODIFIED:20251209T181550Z
UID:10000626-1765481400-1765486800@swanna.waw.pl
SUMMARY:OPEN SPACE
DESCRIPTION:BLOK TEMATYCZNY: Pokaż nam Ojca – teologia i duchowość chrześcijańska \nTEMAT SPOTKANIA: „Dlaczego 25 grudnia? – o historii i teologii Święta Narodzenia Pańskiego”\, prowadzi ks. Radek Wołkowycki \n19:30 dolny kościół \nZapraszamy studentów od 18 do 26 roku życia! \nDo zobaczenia:)
URL:https://swanna.waw.pl/event/open-space-7/
END:VEVENT
BEGIN:VEVENT
DTSTART;TZID=UTC:20251212T190000
DTEND;TZID=UTC:20251212T210000
DTSTAMP:20260421T201003
CREATED:20251024T131440Z
LAST-MODIFIED:20251024T131440Z
UID:10001155-1765566000-1765573200@swanna.waw.pl
SUMMARY:Fides et Ratio
DESCRIPTION:Zapraszamy studentów od 18 do 26 roku życia na akademickie konwersatorium. \n12 grudnia – spotkanie z ciekawym Gościem (szczegóły bliżej terminu) \nChętnych zapraszamy po Mszy Św. wieczornych do krużganków (19:10)\, a potem razem przejdziemy na wierze
URL:https://swanna.waw.pl/event/fides-et-ratio-3/
END:VEVENT
BEGIN:VEVENT
DTSTART;TZID=UTC:20251212T193000
DTEND;TZID=UTC:20251212T210000
DTSTAMP:20260421T201003
CREATED:20251115T132707Z
LAST-MODIFIED:20251115T132707Z
UID:10001426-1765567800-1765573200@swanna.waw.pl
SUMMARY:Medycy
DESCRIPTION:Konferencja i Świadectwa Drabiny Jakubowej
URL:https://swanna.waw.pl/event/medycy-7/
END:VEVENT
BEGIN:VEVENT
DTSTART;TZID=UTC:20251212T193000
DTEND;TZID=UTC:20251212T210000
DTSTAMP:20260421T201003
CREATED:20251128T104543Z
LAST-MODIFIED:20251128T104543Z
UID:10001436-1765567800-1765573200@swanna.waw.pl
SUMMARY:spotkanie o Kościele
DESCRIPTION:Zapraszamy wszystkich studentów na spotkanie o Kościele\, który ma w sobie różne oblicza\, niczym biblijne historie żon Jakuba. Lea\, której nikt nie chciał z powodu jej nieurodziwości i piękna Rachela\, którą Jakub pokochał od pierwszego ujrzenia. Kościół nosi w sobie i coś z Lei i Racheli\, na jego obliczu wypisane są różne grzechy\, ale także piękno miłości\, dobroci\, poświęcenia. Jak odnaleźć się w takim Kościele\, jak Go pokochać i czuć się w Nim jak w domu? Porozmawiamy o tym z Panem Zbigniewem Nosowskim\, redaktorem naczelnym kwartalnika „Więź”\, który w takim właśnie Kościele odnalazł swój dom. \nSpotkanie odbędzie się 12 grudnia 2025 roku o godz. 19:30 w dolnym kościele.  \nSpotkanie w ramach konwersatorium dla studentów „Fides et Ratio”
URL:https://swanna.waw.pl/event/spotkanie-o-kosciele/
END:VEVENT
BEGIN:VEVENT
DTSTART;TZID=UTC:20251214T191500
DTEND;TZID=UTC:20251214T220000
DTSTAMP:20260421T201003
CREATED:20251101T083248Z
LAST-MODIFIED:20260419T215641Z
UID:10001162-1765739700-1765749600@swanna.waw.pl
SUMMARY:Próba muzyczna Brighter Day
DESCRIPTION:Nie wymagamy doświadczenia ani wykształcenia muzycznego\, wystarczy\, że lubisz muzykę! \nNasz zespół spotyka się na próbach o 19:15 w Dolnym Kościele. Później śpiewamy na Mszy Świętej o 21:00. \nSerdecznie zapraszamy! \n 
URL:https://swanna.waw.pl/event/proba-muzyczna-brighter-day/2025-12-14/
END:VEVENT
BEGIN:VEVENT
DTSTART;TZID=UTC:20251217T180000
DTEND;TZID=UTC:20251217T210000
DTSTAMP:20260421T201003
CREATED:20251119T132106Z
LAST-MODIFIED:20251119T132106Z
UID:10001433-1765994400-1766005200@swanna.waw.pl
SUMMARY:Oaza Akademicka 18-26 lat "Opłatek Duszpasterstwa"
DESCRIPTION:Nasza wspólnota będzie uczestniczyć we wspólnym spotkaniu opłatkowym całego naszego duszpasterstwa.\nTego dnia jednoczymy się z innymi wspólnotami\, wspólnie śpiewając kolędy i dzieląc się opłatkiem. \nTo wyjątkowy czas jedności\, radości i budowania wspólnoty w duchu nadchodzących Świąt Bożego Narodzenia.
URL:https://swanna.waw.pl/event/oaza-akademicka-18-26-lat-oplatek-duszpasterstwa/
END:VEVENT
BEGIN:VEVENT
DTSTART;TZID=UTC:20251218T193000
DTEND;TZID=UTC:20251218T210000
DTSTAMP:20260421T201003
CREATED:20251024T062445Z
LAST-MODIFIED:20251024T062445Z
UID:10000627-1766086200-1766091600@swanna.waw.pl
SUMMARY:OPEN SPACE
DESCRIPTION:BLOK TEMATYCZNY: Veni\, vidi\, vinci – Katolicka Nauka Społeczna\, Kultura i Sztuka \nTEMAT SPOTKANIA: (temat będzie podany niebawem)\, prowadzi ks. Krystian Sacharczuk \n19:30 dolny kościół \nZapraszamy studentów od 18 do 26 roku życia! \nDo zobaczenia:)
URL:https://swanna.waw.pl/event/open-space-8/
END:VEVENT
BEGIN:VEVENT
DTSTART;TZID=UTC:20251219T193000
DTEND;TZID=UTC:20251219T210000
DTSTAMP:20260421T201003
CREATED:20251115T132932Z
LAST-MODIFIED:20251115T132932Z
UID:10001427-1766172600-1766178000@swanna.waw.pl
SUMMARY:Medycy
DESCRIPTION:Modlitwa słowem
URL:https://swanna.waw.pl/event/medycy-8/
END:VEVENT
BEGIN:VEVENT
DTSTART;TZID=UTC:20251219T210000
DTEND;TZID=UTC:20251219T223000
DTSTAMP:20260421T201003
CREATED:20251217T230401Z
LAST-MODIFIED:20251217T230459Z
UID:10001490-1766178000-1766183400@swanna.waw.pl
SUMMARY:Sekcja sportowa - kawiarenka
DESCRIPTION:Wyjątkowo zapraszamy na wspólny czas do naszej kawiarni. \n19.12.2025 o godz 21.00 \nNie ma treningu na hali.
URL:https://swanna.waw.pl/event/sekcja-sportowa-kawiarenka/
END:VEVENT
BEGIN:VEVENT
DTSTART;TZID=UTC:20251221T191500
DTEND;TZID=UTC:20251221T220000
DTSTAMP:20260421T201003
CREATED:20251101T083248Z
LAST-MODIFIED:20260419T215641Z
UID:10001163-1766344500-1766354400@swanna.waw.pl
SUMMARY:Próba muzyczna Brighter Day
DESCRIPTION:Nie wymagamy doświadczenia ani wykształcenia muzycznego\, wystarczy\, że lubisz muzykę! \nNasz zespół spotyka się na próbach o 19:15 w Dolnym Kościele. Później śpiewamy na Mszy Świętej o 21:00. \nSerdecznie zapraszamy! \n 
URL:https://swanna.waw.pl/event/proba-muzyczna-brighter-day/2025-12-21/
END:VEVENT
BEGIN:VEVENT
DTSTART;TZID=UTC:20251222T193000
DTEND;TZID=UTC:20251222T210000
DTSTAMP:20260421T201003
CREATED:20251024T072028Z
LAST-MODIFIED:20251024T072346Z
UID:10000901-1766431800-1766437200@swanna.waw.pl
SUMMARY:Spotkanie Oblubienicy
DESCRIPTION:Dolny kościół
URL:https://swanna.waw.pl/event/spotkanie-oblubienicy-2/2025-12-22/
END:VEVENT
BEGIN:VEVENT
DTSTART;TZID=UTC:20251228T191500
DTEND;TZID=UTC:20251228T220000
DTSTAMP:20260421T201003
CREATED:20251101T083248Z
LAST-MODIFIED:20260419T215641Z
UID:10001164-1766949300-1766959200@swanna.waw.pl
SUMMARY:Próba muzyczna Brighter Day
DESCRIPTION:Nie wymagamy doświadczenia ani wykształcenia muzycznego\, wystarczy\, że lubisz muzykę! \nNasz zespół spotyka się na próbach o 19:15 w Dolnym Kościele. Później śpiewamy na Mszy Świętej o 21:00. \nSerdecznie zapraszamy! \n 
URL:https://swanna.waw.pl/event/proba-muzyczna-brighter-day/2025-12-28/
END:VEVENT
BEGIN:VEVENT
DTSTART;TZID=UTC:20251229T193000
DTEND;TZID=UTC:20251229T210000
DTSTAMP:20260421T201003
CREATED:20251024T071538Z
LAST-MODIFIED:20251024T071538Z
UID:10000894-1767036600-1767042000@swanna.waw.pl
SUMMARY:Pakowanie kredy i kadzidła z Oblu
DESCRIPTION:
URL:https://swanna.waw.pl/event/pakowanie-kredy-i-kadzidla-z-oblu/
END:VEVENT
BEGIN:VEVENT
DTSTART;TZID=UTC:20260106T200000
DTEND;TZID=UTC:20260106T220000
DTSTAMP:20260421T201003
CREATED:20260104T123447Z
LAST-MODIFIED:20260104T123447Z
UID:10001501-1767729600-1767736800@swanna.waw.pl
SUMMARY:Spotkanie Brighter Day
DESCRIPTION:Pierwsze spotkanie formacyjne w Nowym Roku. \n„Anieli grają\, bydlęta klękają…”. Co jest prawdą\, a co nie w opisach Bożego Narodzenia? \nSpotykamy się o 20:00 w kościelnej kawiarence (po mszy o 19:00). Serdecznie zapraszamy!
URL:https://swanna.waw.pl/event/spotkanie-brighter-day-7/
END:VEVENT
BEGIN:VEVENT
DTSTART;TZID=UTC:20260109T190000
DTEND;TZID=UTC:20260109T193000
DTSTAMP:20260421T201003
CREATED:20260108T101252Z
LAST-MODIFIED:20260108T101511Z
UID:10001523-1767985200-1767987000@swanna.waw.pl
SUMMARY:FIDES ET RATIO
DESCRIPTION:Zapraszamy studentów na konwersatorium Fides et Ratio. \nSpotkajmy się po Mszy Św. wieczornej w krużgankach i stamtąd pójdziemy na miejsce spotkania. \ntemat: o spowiedzi i namaszczeniu chorych \n9.01.2026
URL:https://swanna.waw.pl/event/fides-et-ratio-4/
END:VEVENT
BEGIN:VEVENT
DTSTART;TZID=UTC:20260109T193000
DTEND;TZID=UTC:20260109T210000
DTSTAMP:20260421T201003
CREATED:20251223T102109Z
LAST-MODIFIED:20251223T102145Z
UID:10001491-1767987000-1767992400@swanna.waw.pl
SUMMARY:spotkanie świąteczne medyków
DESCRIPTION:Zapraszamy wszystkich członków naszej wspólnoty na spotkanie świąteczne! \nKawiarenka\, godz. 19:30\, 9.01 \nMożesz przynieść coś na wspólny stół 🙂
URL:https://swanna.waw.pl/event/spotkanie-swiateczne-medykow/
END:VEVENT
BEGIN:VEVENT
DTSTART;TZID=UTC:20260109T210000
DTEND;TZID=UTC:20260109T223000
DTSTAMP:20260421T201003
CREATED:20260104T192031Z
LAST-MODIFIED:20260104T192031Z
UID:10001502-1767992400-1767997800@swanna.waw.pl
SUMMARY:Sekcja sportowa
DESCRIPTION:Zapraszamy wszystkich studentów do Sekcji Sportowej DA św. Anna. \nTrening odbywa się Szkole Mistrzostwa Sportowego \nZapraszamy od godz. 21:00
URL:https://swanna.waw.pl/event/sekcja-sportowa/
END:VEVENT
BEGIN:VEVENT
DTSTART;TZID=UTC:20260111T191500
DTEND;TZID=UTC:20260111T220000
DTSTAMP:20260421T201003
CREATED:20251101T083248Z
LAST-MODIFIED:20260419T215641Z
UID:10001166-1768158900-1768168800@swanna.waw.pl
SUMMARY:Próba muzyczna Brighter Day
DESCRIPTION:Nie wymagamy doświadczenia ani wykształcenia muzycznego\, wystarczy\, że lubisz muzykę! \nNasz zespół spotyka się na próbach o 19:15 w Dolnym Kościele. Później śpiewamy na Mszy Świętej o 21:00. \nSerdecznie zapraszamy! \n 
URL:https://swanna.waw.pl/event/proba-muzyczna-brighter-day/2026-01-11/
END:VEVENT
BEGIN:VEVENT
DTSTART;TZID=UTC:20260112T080000
DTEND;TZID=UTC:20260112T170000
DTSTAMP:20260421T201003
CREATED:20260112T095336Z
LAST-MODIFIED:20260112T095336Z
UID:10001526-1768204800-1768237200@swanna.waw.pl
SUMMARY:OPEN SPACE
DESCRIPTION:Konwersatorium dla studentów (do 26 r. ż.) \n22.01 g. 19:30 dolny kościół \nblok tematyczny: Pokaż nam Ojca – teologia i duchowość chrześcijańska – prowadzi ks. Radek Wołkowycki
URL:https://swanna.waw.pl/event/open-space-10/
END:VEVENT
BEGIN:VEVENT
DTSTART;TZID=UTC:20260112T190000
DTEND;TZID=UTC:20260112T210000
DTSTAMP:20260421T201003
CREATED:20260112T095029Z
LAST-MODIFIED:20260112T095029Z
UID:10001524-1768244400-1768251600@swanna.waw.pl
SUMMARY:25/35
DESCRIPTION:Grupa dla postakademików w wieku 25-35 \n12.01 g. 19:15 spotkanie świąteczno-noworoczne w kawiarni. \nZapraszamy
URL:https://swanna.waw.pl/event/25-35/
END:VEVENT
BEGIN:VEVENT
DTSTART;TZID=UTC:20260112T193000
DTEND;TZID=UTC:20260112T210000
DTSTAMP:20260421T201003
CREATED:20251024T072028Z
LAST-MODIFIED:20251024T072346Z
UID:10000903-1768246200-1768251600@swanna.waw.pl
SUMMARY:Spotkanie Oblubienicy
DESCRIPTION:Dolny kościół
URL:https://swanna.waw.pl/event/spotkanie-oblubienicy-2/2026-01-12/
END:VEVENT
BEGIN:VEVENT
DTSTART;TZID=UTC:20260115T193000
DTEND;TZID=UTC:20260115T210000
DTSTAMP:20260421T201003
CREATED:20260112T095149Z
LAST-MODIFIED:20260112T095237Z
UID:10001525-1768505400-1768510800@swanna.waw.pl
SUMMARY:OPEN SPACE
DESCRIPTION:Konwersatorium dla studentów (do 26 r. ż.) \n15.01 g. 19:30 dolny kościół \nblok tematyczny: Nic co ludzkie nie jest mi obce – antropologia chrześcijańska – prowadzi ks. Mateusz Milczarek
URL:https://swanna.waw.pl/event/open-space-9/
END:VEVENT
BEGIN:VEVENT
DTSTART;TZID=UTC:20260116T190000
DTEND;TZID=UTC:20260116T210000
DTSTAMP:20260421T201003
CREATED:20260108T101405Z
LAST-MODIFIED:20260108T101436Z
UID:10001522-1768590000-1768597200@swanna.waw.pl
SUMMARY:Fides et Ratio
DESCRIPTION:Zapraszamy studentów na konwersatorium Fides et Ratio. \nSpotkajmy się po Mszy Św. wieczornej w krużgankach i stamtąd pójdziemy na miejsce spotkania. \ntemat: o małżeństwie i kapłaństwie \n16.01.2026
URL:https://swanna.waw.pl/event/fides-et-ratio-5/
END:VEVENT
BEGIN:VEVENT
DTSTART;TZID=UTC:20260116T193000
DTEND;TZID=UTC:20260116T210000
DTSTAMP:20260421T201003
CREATED:20260105T145429Z
LAST-MODIFIED:20260105T145429Z
UID:10001511-1768591800-1768597200@swanna.waw.pl
SUMMARY:MEDYCY
DESCRIPTION:16.01 \ng. 19:30 spotkanie w Kawiarni \ntemat spotkania: modlitwa słowem
URL:https://swanna.waw.pl/event/medycy-9/
END:VEVENT
BEGIN:VEVENT
DTSTART;TZID=UTC:20260116T210000
DTEND;TZID=UTC:20260116T230000
DTSTAMP:20260421T201003
CREATED:20260104T192220Z
LAST-MODIFIED:20260104T192220Z
UID:10001503-1768597200-1768604400@swanna.waw.pl
SUMMARY:sekcja sportowa
DESCRIPTION:Zapraszamy wszystkich studentów do Sekcji Sportowej DA św. Anna. \nTrening odbywa się Szkole Mistrzostwa Sportowego \nZapraszamy od godz. 21:00
URL:https://swanna.waw.pl/event/sekcja-sportowa-2/2026-01-16/
END:VEVENT
END:VCALENDAR