BEGIN:VCALENDAR
VERSION:2.0
PRODID:-//Duszpasterstwo Akademickie Św. Anny - ECPv6.15.18//NONSGML v1.0//EN
CALSCALE:GREGORIAN
METHOD:PUBLISH
X-WR-CALNAME:Duszpasterstwo Akademickie Św. Anny
X-ORIGINAL-URL:https://swanna.waw.pl
X-WR-CALDESC:Wydarzenia dla Duszpasterstwo Akademickie Św. Anny
REFRESH-INTERVAL;VALUE=DURATION:PT1H
X-Robots-Tag:noindex
X-PUBLISHED-TTL:PT1H
BEGIN:VTIMEZONE
TZID:Europe/Warsaw
BEGIN:DAYLIGHT
TZOFFSETFROM:+0100
TZOFFSETTO:+0200
TZNAME:CEST
DTSTART:20250330T010000
END:DAYLIGHT
BEGIN:STANDARD
TZOFFSETFROM:+0200
TZOFFSETTO:+0100
TZNAME:CET
DTSTART:20251026T010000
END:STANDARD
BEGIN:DAYLIGHT
TZOFFSETFROM:+0100
TZOFFSETTO:+0200
TZNAME:CEST
DTSTART:20260329T010000
END:DAYLIGHT
BEGIN:STANDARD
TZOFFSETFROM:+0200
TZOFFSETTO:+0100
TZNAME:CET
DTSTART:20261025T010000
END:STANDARD
BEGIN:DAYLIGHT
TZOFFSETFROM:+0100
TZOFFSETTO:+0200
TZNAME:CEST
DTSTART:20270328T010000
END:DAYLIGHT
BEGIN:STANDARD
TZOFFSETFROM:+0200
TZOFFSETTO:+0100
TZNAME:CET
DTSTART:20271031T010000
END:STANDARD
END:VTIMEZONE
BEGIN:VEVENT
DTSTART;TZID=Europe/Warsaw:20260421T191500
DTEND;TZID=Europe/Warsaw:20260421T220000
DTSTAMP:20260421T101224
CREATED:20260419T215959Z
LAST-MODIFIED:20260419T215959Z
UID:10001601-1776798900-1776808800@swanna.waw.pl
SUMMARY:Spotkanie Brighter Day
DESCRIPTION:Znaki i symbole liturgii okresu wielkanocnego. \n1. Zaczynamy o 19:15 od adoracji w kościele  \n2. Konferencja w kościele  \n3. Dzielenie w grupach \nSerdecznie zapraszamy!
URL:https://swanna.waw.pl/event/spotkanie-brighter-day-19/
END:VEVENT
END:VCALENDAR