BEGIN:VCALENDAR
VERSION:2.0
PRODID:-//Duszpasterstwo Akademickie Św. Anny - ECPv6.15.18//NONSGML v1.0//EN
CALSCALE:GREGORIAN
METHOD:PUBLISH
X-WR-CALNAME:Duszpasterstwo Akademickie Św. Anny
X-ORIGINAL-URL:https://swanna.waw.pl
X-WR-CALDESC:Wydarzenia dla Duszpasterstwo Akademickie Św. Anny
REFRESH-INTERVAL;VALUE=DURATION:PT1H
X-Robots-Tag:noindex
X-PUBLISHED-TTL:PT1H
BEGIN:VTIMEZONE
TZID:UTC
BEGIN:STANDARD
TZOFFSETFROM:+0000
TZOFFSETTO:+0000
TZNAME:UTC
DTSTART:20250101T000000
END:STANDARD
END:VTIMEZONE
BEGIN:VEVENT
DTSTART;TZID=UTC:20260419T191500
DTEND;TZID=UTC:20260419T220000
DTSTAMP:20260419T171812
CREATED:20251101T083248Z
LAST-MODIFIED:20260412T122941Z
UID:10001180-1776626100-1776636000@swanna.waw.pl
SUMMARY:Próba muzyczna Brighter Day
DESCRIPTION:Nie wymagamy doświadczenia ani wykształcenia muzycznego\, wystarczy\, że lubisz muzykę! \nNasz zespół spotyka się na próbach o 19:15 w Dolnym Kościele. Później śpiewamy na Mszy Świętej o 21:00. \nSerdecznie zapraszamy! \n 
URL:https://swanna.waw.pl/event/proba-muzyczna-brighter-day/2026-04-19/
END:VEVENT
END:VCALENDAR