BEGIN:VCALENDAR
VERSION:2.0
PRODID:-//Duszpasterstwo Akademickie Św. Anny - ECPv6.15.18//NONSGML v1.0//EN
CALSCALE:GREGORIAN
METHOD:PUBLISH
X-ORIGINAL-URL:https://swanna.waw.pl
X-WR-CALDESC:Wydarzenia dla Duszpasterstwo Akademickie Św. Anny
REFRESH-INTERVAL;VALUE=DURATION:PT1H
X-Robots-Tag:noindex
X-PUBLISHED-TTL:PT1H
BEGIN:VTIMEZONE
TZID:Europe/Warsaw
BEGIN:DAYLIGHT
TZOFFSETFROM:+0100
TZOFFSETTO:+0200
TZNAME:CEST
DTSTART:20250330T010000
END:DAYLIGHT
BEGIN:STANDARD
TZOFFSETFROM:+0200
TZOFFSETTO:+0100
TZNAME:CET
DTSTART:20251026T010000
END:STANDARD
BEGIN:DAYLIGHT
TZOFFSETFROM:+0100
TZOFFSETTO:+0200
TZNAME:CEST
DTSTART:20260329T010000
END:DAYLIGHT
BEGIN:STANDARD
TZOFFSETFROM:+0200
TZOFFSETTO:+0100
TZNAME:CET
DTSTART:20261025T010000
END:STANDARD
BEGIN:DAYLIGHT
TZOFFSETFROM:+0100
TZOFFSETTO:+0200
TZNAME:CEST
DTSTART:20270328T010000
END:DAYLIGHT
BEGIN:STANDARD
TZOFFSETFROM:+0200
TZOFFSETTO:+0100
TZNAME:CET
DTSTART:20271031T010000
END:STANDARD
END:VTIMEZONE
BEGIN:VTIMEZONE
TZID:UTC
BEGIN:STANDARD
TZOFFSETFROM:+0000
TZOFFSETTO:+0000
TZNAME:UTC
DTSTART:20250101T000000
END:STANDARD
END:VTIMEZONE
BEGIN:VEVENT
DTSTART;TZID=Europe/Warsaw:20260306T190000
DTEND;TZID=Europe/Warsaw:20260306T200000
DTSTAMP:20260423T130308
CREATED:20260227T102240Z
LAST-MODIFIED:20260227T102240Z
UID:10001552-1772823600-1772827200@swanna.waw.pl
SUMMARY:akademicka droga krzyżowa
DESCRIPTION:Rozpocznie się po Mszy Św. wieczornej. \nZapraszamy
URL:https://swanna.waw.pl/event/akademicka-droga-krzyzowa/2026-03-06/
END:VEVENT
BEGIN:VEVENT
DTSTART;TZID=UTC:20260306T193000
DTEND;TZID=UTC:20260306T210000
DTSTAMP:20260423T130308
CREATED:20260105T151031Z
LAST-MODIFIED:20260301T132010Z
UID:10001518-1772825400-1772830800@swanna.waw.pl
SUMMARY:MEDYCY
DESCRIPTION:g. 19:30 \nSpotykamy się po Mszy Św. w kawiarni\, dzielimy się na grupki i spotykamy się w grupkach dzielenia. \n 
URL:https://swanna.waw.pl/event/medycy-16/
END:VEVENT
BEGIN:VEVENT
DTSTART;TZID=UTC:20260306T210000
DTEND;TZID=UTC:20260306T230000
DTSTAMP:20260423T130308
CREATED:20260104T192220Z
LAST-MODIFIED:20260104T192220Z
UID:10001510-1772830800-1772838000@swanna.waw.pl
SUMMARY:sekcja sportowa
DESCRIPTION:Zapraszamy wszystkich studentów do Sekcji Sportowej DA św. Anna. \nTrening odbywa się Szkole Mistrzostwa Sportowego \nZapraszamy od godz. 21:00
URL:https://swanna.waw.pl/event/sekcja-sportowa-2/2026-03-06/
END:VEVENT
END:VCALENDAR