BEGIN:VCALENDAR
VERSION:2.0
PRODID:-//Duszpasterstwo Akademickie Św. Anny - ECPv6.15.18//NONSGML v1.0//EN
CALSCALE:GREGORIAN
METHOD:PUBLISH
X-WR-CALNAME:Duszpasterstwo Akademickie Św. Anny
X-ORIGINAL-URL:https://swanna.waw.pl
X-WR-CALDESC:Wydarzenia dla Duszpasterstwo Akademickie Św. Anny
REFRESH-INTERVAL;VALUE=DURATION:PT1H
X-Robots-Tag:noindex
X-PUBLISHED-TTL:PT1H
BEGIN:VTIMEZONE
TZID:UTC
BEGIN:STANDARD
TZOFFSETFROM:+0000
TZOFFSETTO:+0000
TZNAME:UTC
DTSTART:20250101T000000
END:STANDARD
END:VTIMEZONE
BEGIN:VEVENT
DTSTART;TZID=UTC:20260217T191500
DTEND;TZID=UTC:20260217T220000
DTSTAMP:20260421T142953
CREATED:20260202T162048Z
LAST-MODIFIED:20260203T111053Z
UID:10001535-1771355700-1771365600@swanna.waw.pl
SUMMARY:Spotkanie Brighter Day
DESCRIPTION:Od chorału gregoriańskiego do gitary. Jak zmieniała się muzyka w liturgii na przestrzeni wieków? Co wolno śpiewać i grać\, a czego nie? \nZapraszamy Was serdecznie na spotkanie z cyklu „O liturgii świadomie”. \nZaczynamy o 19:15 w kawiarence. Do zobaczenia! 🙂
URL:https://swanna.waw.pl/event/spotkanie-brighter-day-10/
END:VEVENT
END:VCALENDAR