BEGIN:VCALENDAR
VERSION:2.0
PRODID:-//Duszpasterstwo Akademickie Św. Anny - ECPv6.15.18//NONSGML v1.0//EN
CALSCALE:GREGORIAN
METHOD:PUBLISH
X-ORIGINAL-URL:https://swanna.waw.pl
X-WR-CALDESC:Wydarzenia dla Duszpasterstwo Akademickie Św. Anny
REFRESH-INTERVAL;VALUE=DURATION:PT1H
X-Robots-Tag:noindex
X-PUBLISHED-TTL:PT1H
BEGIN:VTIMEZONE
TZID:UTC
BEGIN:STANDARD
TZOFFSETFROM:+0000
TZOFFSETTO:+0000
TZNAME:UTC
DTSTART:20250101T000000
END:STANDARD
END:VTIMEZONE
BEGIN:VEVENT
DTSTART;TZID=UTC:20260213T190000
DTEND;TZID=UTC:20260213T210000
DTSTAMP:20260421T143321
CREATED:20260105T150446Z
LAST-MODIFIED:20260105T150446Z
UID:10001515-1771009200-1771016400@swanna.waw.pl
SUMMARY:MEDYCY
DESCRIPTION:13.02 \ng. 19:30 \nspotkanie: integracja (niebawem podamy szczegóły)
URL:https://swanna.waw.pl/event/medycy-13/
END:VEVENT
BEGIN:VEVENT
DTSTART;TZID=UTC:20260213T193000
DTEND;TZID=UTC:20260213T210000
DTSTAMP:20260421T143321
CREATED:20260205T180705Z
LAST-MODIFIED:20260205T180705Z
UID:10001541-1771011000-1771016400@swanna.waw.pl
SUMMARY:FIDES ET RATIO
DESCRIPTION:Spotkanie w ramach konwersatorium Fides et Ratio\nPo Mszy Św. wieczornej (o godz. 19:15) zapraszamy do krużganków\, skąd pójdziemy na miejsce spotkania. \nKonwersatorium dla studentów od 18 do 26 r. życia.
URL:https://swanna.waw.pl/event/fides-et-ratio-6/
END:VEVENT
BEGIN:VEVENT
DTSTART;TZID=UTC:20260213T210000
DTEND;TZID=UTC:20260213T230000
DTSTAMP:20260421T143321
CREATED:20260104T192220Z
LAST-MODIFIED:20260104T192220Z
UID:10001507-1771016400-1771023600@swanna.waw.pl
SUMMARY:sekcja sportowa
DESCRIPTION:Zapraszamy wszystkich studentów do Sekcji Sportowej DA św. Anna. \nTrening odbywa się Szkole Mistrzostwa Sportowego \nZapraszamy od godz. 21:00
URL:https://swanna.waw.pl/event/sekcja-sportowa-2/2026-02-13/
END:VEVENT
END:VCALENDAR