BEGIN:VCALENDAR
VERSION:2.0
PRODID:-//Duszpasterstwo Akademickie Św. Anny - ECPv6.15.18//NONSGML v1.0//EN
CALSCALE:GREGORIAN
METHOD:PUBLISH
X-WR-CALNAME:Duszpasterstwo Akademickie Św. Anny
X-ORIGINAL-URL:https://swanna.waw.pl
X-WR-CALDESC:Wydarzenia dla Duszpasterstwo Akademickie Św. Anny
REFRESH-INTERVAL;VALUE=DURATION:PT1H
X-Robots-Tag:noindex
X-PUBLISHED-TTL:PT1H
BEGIN:VTIMEZONE
TZID:UTC
BEGIN:STANDARD
TZOFFSETFROM:+0000
TZOFFSETTO:+0000
TZNAME:UTC
DTSTART:20250101T000000
END:STANDARD
END:VTIMEZONE
BEGIN:VEVENT
DTSTART;TZID=UTC:20260206T183000
DTEND;TZID=UTC:20260206T210000
DTSTAMP:20260421T142954
CREATED:20260105T150237Z
LAST-MODIFIED:20260105T150237Z
UID:10001514-1770402600-1770411600@swanna.waw.pl
SUMMARY:MEDYCY
DESCRIPTION:6.02 – pierwszy piątek miesiąca \ng. 18:30 – Msza Święta\npo Mszy Św. uczestniczymy w konferencji duszpasterskiej w ramach wydarzenia „Wieczór pierwszopiątkowy” w kościele.
URL:https://swanna.waw.pl/event/medycy-12/
END:VEVENT
BEGIN:VEVENT
DTSTART;TZID=UTC:20260206T210000
DTEND;TZID=UTC:20260206T230000
DTSTAMP:20260421T142954
CREATED:20260104T192220Z
LAST-MODIFIED:20260104T192220Z
UID:10001506-1770411600-1770418800@swanna.waw.pl
SUMMARY:sekcja sportowa
DESCRIPTION:Zapraszamy wszystkich studentów do Sekcji Sportowej DA św. Anna. \nTrening odbywa się Szkole Mistrzostwa Sportowego \nZapraszamy od godz. 21:00
URL:https://swanna.waw.pl/event/sekcja-sportowa-2/2026-02-06/
END:VEVENT
END:VCALENDAR