BEGIN:VCALENDAR
VERSION:2.0
PRODID:-//Duszpasterstwo Akademickie Św. Anny - ECPv6.15.18//NONSGML v1.0//EN
CALSCALE:GREGORIAN
METHOD:PUBLISH
X-ORIGINAL-URL:https://swanna.waw.pl
X-WR-CALDESC:Wydarzenia dla Duszpasterstwo Akademickie Św. Anny
REFRESH-INTERVAL;VALUE=DURATION:PT1H
X-Robots-Tag:noindex
X-PUBLISHED-TTL:PT1H
BEGIN:VTIMEZONE
TZID:UTC
BEGIN:STANDARD
TZOFFSETFROM:+0000
TZOFFSETTO:+0000
TZNAME:UTC
DTSTART:20250101T000000
END:STANDARD
END:VTIMEZONE
BEGIN:VEVENT
DTSTART;TZID=UTC:20260203T191500
DTEND;TZID=UTC:20260203T220000
DTSTAMP:20260421T143320
CREATED:20260203T111329Z
LAST-MODIFIED:20260203T111329Z
UID:10001536-1770146100-1770156000@swanna.waw.pl
SUMMARY:Spotkanie Brighter Day
DESCRIPTION:Wolna wola czy plan Boży? Co decyduje o naszym życiu? Co to znaczy\, że Bóg ma dla nas plan? \nSpotykamy się o 19:15 w kościelnej kawiarence. Zapraszamy! 🙂
URL:https://swanna.waw.pl/event/spotkanie-brighter-day-11/
END:VEVENT
END:VCALENDAR