BEGIN:VCALENDAR
VERSION:2.0
PRODID:-//Duszpasterstwo Akademickie Św. Anny - ECPv6.15.18//NONSGML v1.0//EN
CALSCALE:GREGORIAN
METHOD:PUBLISH
X-ORIGINAL-URL:https://swanna.waw.pl
X-WR-CALDESC:Wydarzenia dla Duszpasterstwo Akademickie Św. Anny
REFRESH-INTERVAL;VALUE=DURATION:PT1H
X-Robots-Tag:noindex
X-PUBLISHED-TTL:PT1H
BEGIN:VTIMEZONE
TZID:UTC
BEGIN:STANDARD
TZOFFSETFROM:+0000
TZOFFSETTO:+0000
TZNAME:UTC
DTSTART:20250101T000000
END:STANDARD
END:VTIMEZONE
BEGIN:VEVENT
DTSTART;TZID=UTC:20260130T193000
DTEND;TZID=UTC:20260130T210000
DTSTAMP:20260421T143243
CREATED:20260105T150023Z
LAST-MODIFIED:20260105T150023Z
UID:10001513-1769801400-1769806800@swanna.waw.pl
SUMMARY:MEDYCY
DESCRIPTION:30.01 \ng. 19:30 \ntemat spotkania: konferencja duszpasterska „Jak rozpoznawać swoje powołanie”
URL:https://swanna.waw.pl/event/medycy-11/
END:VEVENT
BEGIN:VEVENT
DTSTART;TZID=UTC:20260130T210000
DTEND;TZID=UTC:20260130T230000
DTSTAMP:20260421T143243
CREATED:20260104T192220Z
LAST-MODIFIED:20260104T192220Z
UID:10001505-1769806800-1769814000@swanna.waw.pl
SUMMARY:sekcja sportowa
DESCRIPTION:Zapraszamy wszystkich studentów do Sekcji Sportowej DA św. Anna. \nTrening odbywa się Szkole Mistrzostwa Sportowego \nZapraszamy od godz. 21:00
URL:https://swanna.waw.pl/event/sekcja-sportowa-2/2026-01-30/
END:VEVENT
END:VCALENDAR