BEGIN:VCALENDAR
VERSION:2.0
PRODID:-//Duszpasterstwo Akademickie Św. Anny - ECPv6.15.18//NONSGML v1.0//EN
CALSCALE:GREGORIAN
METHOD:PUBLISH
X-ORIGINAL-URL:https://swanna.waw.pl
X-WR-CALDESC:Wydarzenia dla Duszpasterstwo Akademickie Św. Anny
REFRESH-INTERVAL;VALUE=DURATION:PT1H
X-Robots-Tag:noindex
X-PUBLISHED-TTL:PT1H
BEGIN:VTIMEZONE
TZID:UTC
BEGIN:STANDARD
TZOFFSETFROM:+0000
TZOFFSETTO:+0000
TZNAME:UTC
DTSTART:20250101T000000
END:STANDARD
END:VTIMEZONE
BEGIN:VEVENT
DTSTART;TZID=UTC:20260126T193000
DTEND;TZID=UTC:20260126T210000
DTSTAMP:20260421T143250
CREATED:20251024T072028Z
LAST-MODIFIED:20251024T072346Z
UID:10000905-1769455800-1769461200@swanna.waw.pl
SUMMARY:Spotkanie Oblubienicy
DESCRIPTION:Dolny kościół
URL:https://swanna.waw.pl/event/spotkanie-oblubienicy-2/2026-01-26/
END:VEVENT
BEGIN:VEVENT
DTSTART;TZID=UTC:20260126T193000
DTEND;TZID=UTC:20260126T210000
DTSTAMP:20260421T143250
CREATED:20260125T102755Z
LAST-MODIFIED:20260125T102755Z
UID:10001531-1769455800-1769461200@swanna.waw.pl
SUMMARY:25/35
DESCRIPTION:Modlitwa w kościele.
URL:https://swanna.waw.pl/event/25-35-2/
END:VEVENT
END:VCALENDAR