BEGIN:VCALENDAR
VERSION:2.0
PRODID:-//Duszpasterstwo Akademickie Św. Anny - ECPv6.15.18//NONSGML v1.0//EN
CALSCALE:GREGORIAN
METHOD:PUBLISH
X-ORIGINAL-URL:https://swanna.waw.pl
X-WR-CALDESC:Wydarzenia dla Duszpasterstwo Akademickie Św. Anny
REFRESH-INTERVAL;VALUE=DURATION:PT1H
X-Robots-Tag:noindex
X-PUBLISHED-TTL:PT1H
BEGIN:VTIMEZONE
TZID:UTC
BEGIN:STANDARD
TZOFFSETFROM:+0000
TZOFFSETTO:+0000
TZNAME:UTC
DTSTART:20250101T000000
END:STANDARD
END:VTIMEZONE
BEGIN:VEVENT
DTSTART;TZID=UTC:20260112T080000
DTEND;TZID=UTC:20260112T170000
DTSTAMP:20260421T161802
CREATED:20260112T095336Z
LAST-MODIFIED:20260112T095336Z
UID:10001526-1768204800-1768237200@swanna.waw.pl
SUMMARY:OPEN SPACE
DESCRIPTION:Konwersatorium dla studentów (do 26 r. ż.) \n22.01 g. 19:30 dolny kościół \nblok tematyczny: Pokaż nam Ojca – teologia i duchowość chrześcijańska – prowadzi ks. Radek Wołkowycki
URL:https://swanna.waw.pl/event/open-space-10/
END:VEVENT
BEGIN:VEVENT
DTSTART;TZID=UTC:20260112T190000
DTEND;TZID=UTC:20260112T210000
DTSTAMP:20260421T161802
CREATED:20260112T095029Z
LAST-MODIFIED:20260112T095029Z
UID:10001524-1768244400-1768251600@swanna.waw.pl
SUMMARY:25/35
DESCRIPTION:Grupa dla postakademików w wieku 25-35 \n12.01 g. 19:15 spotkanie świąteczno-noworoczne w kawiarni. \nZapraszamy
URL:https://swanna.waw.pl/event/25-35/
END:VEVENT
BEGIN:VEVENT
DTSTART;TZID=UTC:20260112T193000
DTEND;TZID=UTC:20260112T210000
DTSTAMP:20260421T161802
CREATED:20251024T072028Z
LAST-MODIFIED:20251024T072346Z
UID:10000903-1768246200-1768251600@swanna.waw.pl
SUMMARY:Spotkanie Oblubienicy
DESCRIPTION:Dolny kościół
URL:https://swanna.waw.pl/event/spotkanie-oblubienicy-2/2026-01-12/
END:VEVENT
END:VCALENDAR